BEGIN:VCALENDAR
VERSION:2.0
PRODID:-//SZABIST University Islamabad - ECPv5.12.2//NONSGML v1.0//EN
CALSCALE:GREGORIAN
METHOD:PUBLISH
X-WR-CALNAME:SZABIST University Islamabad
X-ORIGINAL-URL:https://szabist-isb.edu.pk
X-WR-CALDESC:Events for SZABIST University Islamabad
REFRESH-INTERVAL;VALUE=DURATION:PT1H
X-Robots-Tag:noindex
X-PUBLISHED-TTL:PT1H
BEGIN:VTIMEZONE
TZID:Asia/Karachi
BEGIN:STANDARD
TZOFFSETFROM:+0500
TZOFFSETTO:+0500
TZNAME:PKT
DTSTART:20220101T000000
END:STANDARD
END:VTIMEZONE
BEGIN:VEVENT
DTSTART;VALUE=DATE:20221208
DTEND;VALUE=DATE:20221209
DTSTAMP:20260425T201327
CREATED:20221208T082018Z
LAST-MODIFIED:20230609T082648Z
UID:17793-1670457600-1670543999@szabist-isb.edu.pk
SUMMARY:International Housing Expo 2022
DESCRIPTION:International Housing Expo 2022 \nIslamabad Chamber of Commerce & Industry – ICCI\, in collaboration with the Ministry of Housing and Work\, has organized the 1st International Housing Expo – 2022 from December 8-11\, 2022\, at the Convention Center\, Islamabad. The students of Corporate Finance (BSAF-7) visited the Expo on Dec 08\, 2022\, under the supervision of Mr.Hassan Zada. \nThe central theme of the Expo was “SHELTER FOR ALL\,” as this is one of the fundamental rights of every citizen of Pakistan. They have invited local and international developers\, builders\, architects\, designers\, allied industries\, and real estate development companies to showcase their state-of-the-art residential and commercial projects for visitors. Policy dialogues were also held on the sidelines in which experts from the public and private sectors and academia were invited to discuss new technologies\, new bylaws in the housing and construction industry and creating public-private partnerships to deliver investments for building eco-friendly and affordable housing projects across Pakistan. \nThe students visited different stalls arranged by various real estate agencies and questioned them regarding their investment schemes. The agencies also introduced the students to upcoming housing societies for investment purposes. Overall\, it was a good experience for the students and helped them acquire knowledge of housing schemes and investment opportunities.
URL:https://szabist-isb.edu.pk/events-calendar/international-housing-expo-2022-2/
CATEGORIES:Semester Activities,Spring 2023,SZABIST Events
ATTACH;FMTTYPE=image/jpeg:https://szabist-isb.edu.pk/wp-content/uploads/2023/06/WhatsApp-Image-2022-12-28-at-6.14.48-PM.jpeg
END:VEVENT
END:VCALENDAR