BEGIN:VCALENDAR
VERSION:2.0
PRODID:-//SZABIST University Islamabad - ECPv5.12.2//NONSGML v1.0//EN
CALSCALE:GREGORIAN
METHOD:PUBLISH
X-WR-CALNAME:SZABIST University Islamabad
X-ORIGINAL-URL:https://szabist-isb.edu.pk
X-WR-CALDESC:Events for SZABIST University Islamabad
REFRESH-INTERVAL;VALUE=DURATION:PT1H
X-Robots-Tag:noindex
X-PUBLISHED-TTL:PT1H
BEGIN:VTIMEZONE
TZID:Asia/Karachi
BEGIN:STANDARD
TZOFFSETFROM:+0500
TZOFFSETTO:+0500
TZNAME:PKT
DTSTART:20230101T000000
END:STANDARD
END:VTIMEZONE
BEGIN:VEVENT
DTSTART;VALUE=DATE:20230221
DTEND;VALUE=DATE:20230222
DTSTAMP:20260425T163527
CREATED:20230224T061717Z
LAST-MODIFIED:20230224T070310Z
UID:16354-1676937600-1677023999@szabist-isb.edu.pk
SUMMARY:CIMA Business Game Competition 2023
DESCRIPTION:CIMA Business Game Competition 2023\n\n\nThe CIMA Business Game Competition is an annual event that took place on February 21\,2023. It challenges teams to apply their business acumen to a simulated business scenario. This year’s competition was intense\, with teams from all over the country vying for the top spot. The BSAF SZABIST Islamabad team has emerged as the champions of the prestigious CIMA Business Game Competition 2023. The SZABIST team has fought hard against some of the best teams in Islamabad\, and we are proud to have come out on top. However\, the BSAF SZABIST Islamabad team’s hard work\, dedication\, and strategic thinking have paid off.\n\n\n\n\n\nOur amazing team members gave their unwavering commitment and hard work\, and guidance and support of our faculty members throughout the competition. Without their tireless efforts and expertise\, we could not have achieved this remarkable feat.\n\n\n\n\n\nWinning this competition has been a tremendous achievement for us\, and it is a testament to our dedication and hard work. We look forward to more challenges\, and we are excited to see what the future holds for our team.
URL:https://szabist-isb.edu.pk/events-calendar/cima-business-game-competition-2023/
CATEGORIES:Semester Activities,Spring 2023,SZABIST Events
ATTACH;FMTTYPE=image/jpeg:https://szabist-isb.edu.pk/wp-content/uploads/2023/02/IMG-20230222-WA0001-1.jpg
END:VEVENT
BEGIN:VEVENT
DTSTART;VALUE=DATE:20230223
DTEND;VALUE=DATE:20230224
DTSTAMP:20260425T163527
CREATED:20230223T084526Z
LAST-MODIFIED:20230329T085328Z
UID:16709-1677110400-1677196799@szabist-isb.edu.pk
SUMMARY:Skin Care Awareness Seminar
DESCRIPTION:Skin Care Awareness Seminar\n\n\n\nGood health and self-esteem go hand-in-hand during the process of exercising and establishing good health habits. Having healthy skin is a step to confidence. SZABIST recognizes physical and mental health and well-being and aims to facilitate improvements in many areas that positively impact well-being. Ms. Amber Gillani ( Social Sciences department) arranged a seminar on 23rd February 2023 by Dr. Eram Yasir who is an aesthetic physician\, laser specialist\, and health wellness coach associated with Cosmetic Laser and Skin Clinic (CLSC). She collaborated with SZABIST Islamabad through an interactive session with students\, staff\, and faculty of campus highlighting how to improve skin and become more aware of skin conditions. The session also emphasized procedures that can be done to improve skin for optimal use and factors affecting the well-being of skin in improving daily routine. Students got skin assessments and discussed issues related to skin.
URL:https://szabist-isb.edu.pk/events-calendar/skin-care-awareness-seminar/
CATEGORIES:Sessions,Spring 2023,SZABIST Events
ATTACH;FMTTYPE=image/jpeg:https://szabist-isb.edu.pk/wp-content/uploads/2023/03/356A9822-1.jpg
END:VEVENT
END:VCALENDAR