BEGIN:VCALENDAR
VERSION:2.0
PRODID:-//SZABIST University Islamabad - ECPv5.12.2//NONSGML v1.0//EN
CALSCALE:GREGORIAN
METHOD:PUBLISH
X-WR-CALNAME:SZABIST University Islamabad
X-ORIGINAL-URL:https://szabist-isb.edu.pk
X-WR-CALDESC:Events for SZABIST University Islamabad
REFRESH-INTERVAL;VALUE=DURATION:PT1H
X-Robots-Tag:noindex
X-PUBLISHED-TTL:PT1H
BEGIN:VTIMEZONE
TZID:UTC
BEGIN:STANDARD
TZOFFSETFROM:+0000
TZOFFSETTO:+0000
TZNAME:UTC
DTSTART:20190101T000000
END:STANDARD
END:VTIMEZONE
BEGIN:VEVENT
DTSTART;VALUE=DATE:20191127
DTEND;VALUE=DATE:20191128
DTSTAMP:20260424T070959
CREATED:20200722T015906Z
LAST-MODIFIED:20200722T015906Z
UID:9077-1574812800-1574899199@szabist-isb.edu.pk
SUMMARY:Workshop on Business Startups
DESCRIPTION:The Students of SZABIST from the Department of Management Sciences along their course instructor Mr. Syed Shahwar Hussain organized a workshop on business startups on Wednesday\, November 27\, 2019\, as part of the Entrepreneurship week being celebrated at SZABIST Islamabad. \nThe Guest speakers through her industrial experience and knowledge motivated the students towards the need for business startups. She also emphasized the students to actively participate in such skill-developing activities to help contribute towards the development\, especially towards taking part in different business plan competitions and pitch there idea to potential investors and apply in the cohort 7 being organized by NIC for the induction of potential entrepreneurs at the NIC. Lastly\, she emphasized that activities like these will strengthen the linkages between SZABIST Islamabad and National Incubation Center (NIC) through their engagement in external activities.
URL:https://szabist-isb.edu.pk/events-calendar/workshop-on-business-startups/
CATEGORIES:ORIC,YESClub
ATTACH;FMTTYPE=image/jpeg:https://szabist-isb.edu.pk/wp-content/uploads/2020/07/Business-Startups.jpg
END:VEVENT
END:VCALENDAR