BEGIN:VCALENDAR
VERSION:2.0
PRODID:-//SZABIST University Islamabad - ECPv5.12.2//NONSGML v1.0//EN
CALSCALE:GREGORIAN
METHOD:PUBLISH
X-WR-CALNAME:SZABIST University Islamabad
X-ORIGINAL-URL:https://szabist-isb.edu.pk
X-WR-CALDESC:Events for SZABIST University Islamabad
REFRESH-INTERVAL;VALUE=DURATION:PT1H
X-Robots-Tag:noindex
X-PUBLISHED-TTL:PT1H
BEGIN:VTIMEZONE
TZID:UTC
BEGIN:STANDARD
TZOFFSETFROM:+0000
TZOFFSETTO:+0000
TZNAME:UTC
DTSTART:20200101T000000
END:STANDARD
END:VTIMEZONE
BEGIN:VEVENT
DTSTART;VALUE=DATE:20200414
DTEND;VALUE=DATE:20200415
DTSTAMP:20260423T211137
CREATED:20200721T073050Z
LAST-MODIFIED:20200721T073050Z
UID:9057-1586822400-1586908799@szabist-isb.edu.pk
SUMMARY:Poster Competition
DESCRIPTION:Announced on April 14\, 2020\, the ”   ” by ORIC and Y.E.S Club on COVID 19 encouraged students to explore their creative side. The First prize was won by Mr. Mahir Kareem (Karachi campus)\, second prize was won by Abdullah Nawaz (Islamabad campus) and 3rd prize was won by Ms. Laraib Faheem (Islamabad campus).
URL:https://szabist-isb.edu.pk/events-calendar/poster-competition/
CATEGORIES:ORIC,YESClub
ATTACH;FMTTYPE=image/jpeg:https://szabist-isb.edu.pk/wp-content/uploads/2020/07/Poster-Competition.jpg
END:VEVENT
END:VCALENDAR