BEGIN:VCALENDAR
VERSION:2.0
PRODID:-//SZABIST University Islamabad - ECPv5.12.2//NONSGML v1.0//EN
CALSCALE:GREGORIAN
METHOD:PUBLISH
X-WR-CALNAME:SZABIST University Islamabad
X-ORIGINAL-URL:https://szabist-isb.edu.pk
X-WR-CALDESC:Events for SZABIST University Islamabad
REFRESH-INTERVAL;VALUE=DURATION:PT1H
X-Robots-Tag:noindex
X-PUBLISHED-TTL:PT1H
BEGIN:VTIMEZONE
TZID:Asia/Karachi
BEGIN:STANDARD
TZOFFSETFROM:+0500
TZOFFSETTO:+0500
TZNAME:PKT
DTSTART:20250101T000000
END:STANDARD
END:VTIMEZONE
BEGIN:VEVENT
DTSTART;TZID=Asia/Karachi:20251001T080000
DTEND;TZID=Asia/Karachi:20251001T170000
DTSTAMP:20260425T193759
CREATED:20251110T061120Z
LAST-MODIFIED:20260113T044414Z
UID:29912-1759305600-1759338000@szabist-isb.edu.pk
SUMMARY:Pukhtoon Culture Day SZABIST 2025 Celebrated at Islamabad Campus
DESCRIPTION:SZABIST University Islamabad proudly celebrated Pukhtoon Culture Day SZABIST 2025\, organized by the SZABIST Pukhtoon Community under the Sports\, Culture\, and Adventure Society (SCAS). The event highlighted the rich heritage\, traditions\, and values of the Pukhtoon community\, offering students a vibrant experience of their cultural identity. \nThe celebration featured lively cultural performances\, music\, poetry\, and the iconic Attan dance. Students actively participated\, making the day both entertaining and memorable. Madam Aasiya Khan\, Former Minister KP and Senior PPP Leader\, attended the event and praised the students for promoting harmony\, unity\, and cultural awareness. \nThe program was conducted under the supervision of Dr. Ahmed Ali Qureshi\, Head of Student Support Services\, with special guidance from Faculty Advisor Mr. Zeeshan Hamid. Their support ensured the event’s smooth execution and success. \nAt SZABIST Islamabad\, we take pride in celebrating the country’s cultural diversity. Pukhtoon Culture Day SZABIST 2025 reflects our commitment to fostering inclusivity\, respect\, and appreciation for Pakistan’s rich heritage while encouraging students to embrace their identity.
URL:https://szabist-isb.edu.pk/events-calendar/pukhtoon-culture-day-szabist-2025-celebrated-at-islamabad-campus/
CATEGORIES:Fall 2025,SZABIST Events
ATTACH;FMTTYPE=image/jpeg:https://szabist-isb.edu.pk/wp-content/uploads/2025/11/557635068_1109842091262238_7107195166362065585_n.jpg
END:VEVENT
BEGIN:VEVENT
DTSTART;TZID=Asia/Karachi:20251001T080000
DTEND;TZID=Asia/Karachi:20251001T170000
DTSTAMP:20260425T193759
CREATED:20251110T052558Z
LAST-MODIFIED:20260113T044212Z
UID:29888-1759305600-1759338000@szabist-isb.edu.pk
SUMMARY:Thesis Guidance and ERB Requirements Session
DESCRIPTION:A special session on Thesis Guidance and Ethical Review Board (ERB) Requirements was successfully conducted under the supervision of Dr. Aliya Abdul Hayee\, Program Manager\, MS Clinical Psychology. \nThe workshop offered valuable insights into the thesis development process\, ethical considerations\, and ERB submission protocols. Students actively participated\, gaining practical guidance to improve the quality of their research while ensuring ethical compliance. \nThis initiative highlights the Department of Social Sciences’ commitment to academic excellence\, research integrity\, and continuous student support.
URL:https://szabist-isb.edu.pk/events-calendar/thesis-guidance-and-erb-requirements-session/
CATEGORIES:Fall 2025,Sessions
ATTACH;FMTTYPE=image/jpeg:https://szabist-isb.edu.pk/wp-content/uploads/2025/11/558240764_1108903301356117_72450385346677586_n.jpg
END:VEVENT
BEGIN:VEVENT
DTSTART;TZID=Asia/Karachi:20250930T080000
DTEND;TZID=Asia/Karachi:20250930T170000
DTSTAMP:20260425T193759
CREATED:20251110T055318Z
LAST-MODIFIED:20260113T044018Z
UID:29907-1759219200-1759251600@szabist-isb.edu.pk
SUMMARY:Cardiac Health Awareness Seminar 2025 at SZABIST University Islamabad
DESCRIPTION:On 30th September 2025\, SZABIST Islamabad hosted an Awareness Seminar on Cardiac Health to promote student well-being and a heart-healthy lifestyle. Organized by the Wellness and Health Society (led by Ms. Sana Mukhtar) and the Community Services & Social Responsibility Society (led by Dr. Iffat Rasool) in collaboration with Shifa International Hospital\, the seminar offered practical insights for preventing cardiovascular diseases. \nDr. Asad Akbar\, Chief of Cardiology at Shifa International Hospital\, shared key strategies for young adults to protect their heart health. He emphasized the importance of balanced diet\, regular exercise\, and stress management in reducing the risk of heart problems. \nThe interactive session allowed students to ask questions and receive practical guidance for daily heart-healthy habits. The seminar concluded with a strong message: awareness\, self-care\, and collective responsibility are essential for a healthier future.
URL:https://szabist-isb.edu.pk/events-calendar/cardiac-health-awareness-seminar-2025-at-szabist-university-islamabad/
CATEGORIES:Fall 2025,Seminar
ATTACH;FMTTYPE=image/jpeg:https://szabist-isb.edu.pk/wp-content/uploads/2025/11/557635367_1109818171264630_8010362279848491487_n.jpg
END:VEVENT
BEGIN:VEVENT
DTSTART;TZID=Asia/Karachi:20250927T080000
DTEND;TZID=Asia/Karachi:20250927T170000
DTSTAMP:20260425T193759
CREATED:20251110T054238Z
LAST-MODIFIED:20260113T043826Z
UID:29898-1758960000-1758992400@szabist-isb.edu.pk
SUMMARY:Neurodiversity Seminar at SZABIST University Islamabad
DESCRIPTION:The Department of Social Sciences at SZABIST Islamabad organized an engaging seminar on Neurodiversity on September 27\, 2025. \nGuest speaker Ms. Aleena\, Consultant Speech & Language Pathologist and Senior Lecturer at Riphah International University\, Lahore\, delivered an insightful talk. She discussed neurological differences such as autism\, ADHD\, and dyslexia\, highlighting them as natural variations rather than deficits. \nHer session focused on recognizing strengths and unique abilities in neurodivergent individuals. She also addressed the challenges faced in education\, clinical work\, and social life. \n✨ Key Highlights:✅ Promoting inclusion for neurodiverse individuals✅ Practical strategies for therapy and academic settings✅ Training future psychologists to foster acceptance and equity \nStudents from both BS and MS Psychology actively participated in the discussion. They asked thoughtful questions and reflected on how to support a more inclusive society. \nAt SZABIST University Islamabad\, we remain committed to nurturing compassion\, awareness\, and professional excellence in the field of psychology and mental health.
URL:https://szabist-isb.edu.pk/events-calendar/neurodiversity-seminar-at-szabist-university-islamabad/
CATEGORIES:Fall 2025,Seminar
ATTACH;FMTTYPE=image/jpeg:https://szabist-isb.edu.pk/wp-content/uploads/2025/11/557848969_1109763614603419_2230164266139508834_n.jpg
END:VEVENT
BEGIN:VEVENT
DTSTART;TZID=Asia/Karachi:20250925T080000
DTEND;TZID=Asia/Karachi:20250925T170000
DTSTAMP:20260425T193759
CREATED:20251110T054809Z
LAST-MODIFIED:20260113T043709Z
UID:29903-1758787200-1758819600@szabist-isb.edu.pk
SUMMARY:SZABIST University Islamabad Participates in NBEAC Workshop on Peer Review Visits
DESCRIPTION:The National Business Education Accreditation Council (NBEAC) held a two-day workshop titled “Preparing for a Successful Peer Review Visit of a Business School” on September 25–26\, 2025\, at FAST Business School\, Lahore. \nRepresenting SZABIST University Islamabad\, Prof. Dr. Shazia Akhtar (Head of Department)\, Dr. Hassan Raza\, and Dr. Iffat Rasool from the Department of Management Sciences actively took part in this academic event. \nThe workshop was conducted by distinguished academic leaders:✨ Dr. Zaki Rashidi – Dean\, Iqra University Business School\, Karachi✨ Dr. Hamid Hassan – Head\, FAST Business School\, Lahore \nWorkshop Highlights:✅ Preparing documentation for NBEAC peer review visits✅ Engaging key stakeholders effectively✅ Presenting evidence of academic quality✅ Managing post-visit processes and improvements \nThis initiative reflects SZABIST Islamabad’s continued commitment to quality assurance\, academic excellence\, and international accreditation readiness. \nBy engaging in such forums\, SZABIST strengthens its role as one of Pakistan’s leading business schools\, dedicated to delivering world-class education and impactful learning experiences.
URL:https://szabist-isb.edu.pk/events-calendar/szabist-university-islamabad-participates-in-nbeac-workshop-on-peer-review-visits/
CATEGORIES:Fall 2025,Workshop
ATTACH;FMTTYPE=image/jpeg:https://szabist-isb.edu.pk/wp-content/uploads/2025/11/556395785_1109768701269577_3000524905368556202_n.jpg
END:VEVENT
BEGIN:VEVENT
DTSTART;TZID=Asia/Karachi:20250918T080000
DTEND;TZID=Asia/Karachi:20250918T170000
DTSTAMP:20260425T193759
CREATED:20251110T051744Z
LAST-MODIFIED:20260113T043600Z
UID:29882-1758182400-1758214800@szabist-isb.edu.pk
SUMMARY:Interactive Session on Road Safety and Community Policing at SZABIST Islamabad
DESCRIPTION:On September 18\, SZABIST Islamabad organized an interactive session on “Road Safety and Community Policing.” The event brought together students\, faculty\, and experts to discuss strategies for safer roads and stronger community engagement. \nTwo distinguished speakers led the session — Capt. (R) Hamza Hamyun\, Chief Traffic Officer\, Islamabad Traffic Police\, and Ms. Aisha Jamil\, Station Director\, FM Radio Traffic Division. They shared practical insights on safe driving\, public participation in policing\, and the importance of collective responsibility. \nBoth highlighted the vital role of student volunteers in supporting the Islamabad Traffic Police\, particularly through the Friends of Police Program. CTO Hamza Hamyun appreciated SZABIST students’ contributions and assured continued support from the ICT Police for student learning and engagement initiatives. \nAdding to the discussion\, Mr. Khusro Pervaiz Khan\, Head of Campus\, emphasized following traffic rules and promoting volunteerism to create a safety-conscious community. \nThe event was successfully organized by Ms. Sana Mukhtar\, Program Manager (BSSS/BS Psychology)\, Department of Social Sciences.
URL:https://szabist-isb.edu.pk/events-calendar/interactive-session-on-road-safety-and-community-policing-at-szabist-islamabad/
CATEGORIES:Fall 2025,Sessions
ATTACH;FMTTYPE=image/jpeg:https://szabist-isb.edu.pk/wp-content/uploads/2025/11/557721466_1108034048109709_302198349730865960_n.jpg
END:VEVENT
BEGIN:VEVENT
DTSTART;TZID=Asia/Karachi:20250917T080000
DTEND;TZID=Asia/Karachi:20250917T170000
DTSTAMP:20260425T193759
CREATED:20251110T053726Z
LAST-MODIFIED:20260113T043433Z
UID:29893-1758096000-1758128400@szabist-isb.edu.pk
SUMMARY:Google News AI Lab Pakistan | Hosted by SZABIST Islamabad
DESCRIPTION:Pakistan’s First-Ever Google News AI Lab Hosted at SZABIST Islamabad! \nSZABIST Islamabad proudly hosted Pakistan’s first-ever Google News AI Lab from September 15–17\, marking a groundbreaking step in the nation’s media innovation journey. ✨ \nIn collaboration with Tech Valley Pakistan\, the event brought together journalists\, media professionals\, and digital innovators from across the country to explore the transformative potential of AI in journalism. \nThis pioneering initiative reflects SZABIST’s ongoing commitment to technological advancement\, digital literacy\, and future-focused learning.
URL:https://szabist-isb.edu.pk/events-calendar/google-news-ai-lab-pakistan-hosted-by-szabist-islamabad/
CATEGORIES:Fall 2025,Spring 2025
ATTACH;FMTTYPE=image/jpeg:https://szabist-isb.edu.pk/wp-content/uploads/2025/11/556555738_1108994354680345_7909640458242506627_n.jpg
END:VEVENT
BEGIN:VEVENT
DTSTART;TZID=Asia/Karachi:20250915T080000
DTEND;TZID=Asia/Karachi:20250919T170000
DTSTAMP:20260425T193759
CREATED:20251110T051042Z
LAST-MODIFIED:20260113T043337Z
UID:29877-1757923200-1758301200@szabist-isb.edu.pk
SUMMARY:SZABIST Orientation Week 2025
DESCRIPTION:From September 15 to 19\, SZABIST University Islamabad celebrated SZABIST Orientation Week 2025\, marking the beginning of an inspiring new academic year. \nThroughout the week\, new students met their faculty\, explored campus facilities\, and discovered student services designed to support their success. They also joined interactive sessions that encouraged participation in student societies and extracurricular activities. Networking games and fun challenges helped them connect with classmates and build lasting friendships. \nThe program created a warm and inclusive start to university life — full of energy\, learning\, and excitement. \nBest wishes to all the new ZABians as they begin their transformative journey at SZABIST University Islamabad.
URL:https://szabist-isb.edu.pk/events-calendar/szabist-orientation-week-2025/
CATEGORIES:Fall 2025,Orientations
ATTACH;FMTTYPE=image/jpeg:https://szabist-isb.edu.pk/wp-content/uploads/2025/11/550624532_1102412458671868_4698605747554051897_n.jpg
END:VEVENT
END:VCALENDAR