BEGIN:VCALENDAR
VERSION:2.0
PRODID:-//SZABIST University Islamabad - ECPv5.12.2//NONSGML v1.0//EN
CALSCALE:GREGORIAN
METHOD:PUBLISH
X-WR-CALNAME:SZABIST University Islamabad
X-ORIGINAL-URL:https://szabist-isb.edu.pk
X-WR-CALDESC:Events for SZABIST University Islamabad
REFRESH-INTERVAL;VALUE=DURATION:PT1H
X-Robots-Tag:noindex
X-PUBLISHED-TTL:PT1H
BEGIN:VTIMEZONE
TZID:Asia/Karachi
BEGIN:STANDARD
TZOFFSETFROM:+0500
TZOFFSETTO:+0500
TZNAME:PKT
DTSTART:20190101T000000
END:STANDARD
END:VTIMEZONE
BEGIN:VEVENT
DTSTART;VALUE=DATE:20191204
DTEND;VALUE=DATE:20191205
DTSTAMP:20260424T145049
CREATED:20191204T135323Z
LAST-MODIFIED:20231215T135356Z
UID:20930-1575417600-1575503999@szabist-isb.edu.pk
SUMMARY:3MT Competition
DESCRIPTION:Department of Computer Science SZABIST Islamabad successfully organized 3rd Inter-University Three Minute Thesis (3MT) Competition\, in which several research students participated from 15 universities of Rawalpindi\, Islamabad\, Taxila and Peshawar presented their research in a simple and concise way. \nFinal round on December 04\, 2019 was followed by Qualifying Rounds-1 and 2 where MS and PhD students from different universities presented their research work in just three minutes. The winners of the event are from Bahria University Islamabad\, SZABIST Islamabad and City University Peshawar.
URL:https://szabist-isb.edu.pk/events-calendar/3mt-competition/
CATEGORIES:Fall 2019
ATTACH;FMTTYPE=image/jpeg:https://szabist-isb.edu.pk/wp-content/uploads/2023/12/9-29.jpg
END:VEVENT
BEGIN:VEVENT
DTSTART;VALUE=DATE:20191204
DTEND;VALUE=DATE:20191205
DTSTAMP:20260424T145049
CREATED:20191204T135750Z
LAST-MODIFIED:20231215T135913Z
UID:20947-1575417600-1575503999@szabist-isb.edu.pk
SUMMARY:Field Trip to Stock Exchange
DESCRIPTION:On the 4th of December 2019\, students of the 5th semester of BBA were taken on an educational visit to the ISE (Islamabad Stock Exchange Towers) organized by their FMI Instructor Ms. Nayyab Javed. \nAt the beginning of the tour\, an insightful seminar with interactive and topical discussions on how modern markets work today was held by an expert trainer. The session highlighted various investment instruments and their pros and cons\, workings of the stock exchange and various rules and regulations of the Islamabad Stock Exchange and its alliance with the Pakistan Stock Exchange. After the seminar\, the students were taken to a room where digitized operations of the listings\, stock prices and company’s index were displayed on large screens; this gave an overview of the role of demand and supply in share prices. \nThe purpose of this visit was to engage the students in the practical application of the concepts taught in their classroom and bridge the barrier between academia and industry.
URL:https://szabist-isb.edu.pk/events-calendar/field-trip-to-stock-exchange/
CATEGORIES:Fall 2019
ATTACH;FMTTYPE=image/jpeg:https://szabist-isb.edu.pk/wp-content/uploads/2023/12/4-50.jpg
END:VEVENT
END:VCALENDAR