BEGIN:VCALENDAR
VERSION:2.0
PRODID:-//SZABIST University Islamabad - ECPv5.12.2//NONSGML v1.0//EN
CALSCALE:GREGORIAN
METHOD:PUBLISH
X-WR-CALNAME:SZABIST University Islamabad
X-ORIGINAL-URL:https://szabist-isb.edu.pk
X-WR-CALDESC:Events for SZABIST University Islamabad
REFRESH-INTERVAL;VALUE=DURATION:PT1H
X-Robots-Tag:noindex
X-PUBLISHED-TTL:PT1H
BEGIN:VTIMEZONE
TZID:Asia/Karachi
BEGIN:STANDARD
TZOFFSETFROM:+0500
TZOFFSETTO:+0500
TZNAME:PKT
DTSTART:20190101T000000
END:STANDARD
END:VTIMEZONE
BEGIN:VEVENT
DTSTART;VALUE=DATE:20191129
DTEND;VALUE=DATE:20191130
DTSTAMP:20260424T145046
CREATED:20191129T132326Z
LAST-MODIFIED:20231215T132352Z
UID:20832-1574985600-1575071999@szabist-isb.edu.pk
SUMMARY:Idea Generation and Communication Presentation
DESCRIPTION:To enlighten students that entrepreneurial marketing is less about a single marketing strategy and more about a marketing spirit that differentiates itself from traditional marketing practices. \nIt eschews many of the fundamental principles of marketing because they are typically designed for large\, well-established firms. Class activity under the Supervision of Mr. Bilal Ahmad for business and electronic communication students was planned to present their business ideas.
URL:https://szabist-isb.edu.pk/events-calendar/idea-generation-and-communication-presentation/
CATEGORIES:Fall 2019
ATTACH;FMTTYPE=image/jpeg:https://szabist-isb.edu.pk/wp-content/uploads/2023/12/8-34.jpg
END:VEVENT
END:VCALENDAR