BEGIN:VCALENDAR
VERSION:2.0
PRODID:-//SZABIST University Islamabad - ECPv5.12.2//NONSGML v1.0//EN
CALSCALE:GREGORIAN
METHOD:PUBLISH
X-WR-CALNAME:SZABIST University Islamabad
X-ORIGINAL-URL:https://szabist-isb.edu.pk
X-WR-CALDESC:Events for SZABIST University Islamabad
REFRESH-INTERVAL;VALUE=DURATION:PT1H
X-Robots-Tag:noindex
X-PUBLISHED-TTL:PT1H
BEGIN:VTIMEZONE
TZID:Asia/Karachi
BEGIN:STANDARD
TZOFFSETFROM:+0500
TZOFFSETTO:+0500
TZNAME:PKT
DTSTART:20190101T000000
END:STANDARD
END:VTIMEZONE
BEGIN:VEVENT
DTSTART;VALUE=DATE:20191128
DTEND;VALUE=DATE:20191129
DTSTAMP:20260424T145148
CREATED:20191128T131728Z
LAST-MODIFIED:20231215T131806Z
UID:20794-1574899200-1574985599@szabist-isb.edu.pk
SUMMARY:ZAB – EXTRAVAGANZA (Revamped) Fall 2019
DESCRIPTION:ZAB – EXTRAVAGANZA (Revamped) “Fall 2019” \nOrganized by the students of Business Management\, ZAB EXTRAVAGANZA (Revamped) was held on Nov 28th\, 2019 at Shaheed Zulfiqar Ali Bhutto Institute of Science and Technology (SZABIST) Islamabad. The event gathered around exhibitors from the undergraduate programs\, providing a one-stop platform for students to learn about business start-up opportunities and support services and get the latest market intelligence. Start-ups play a vital part in driving economic growth and transition. They create job opportunities and keep a country’s economy vibrant. To facilitate this understanding\, the Department of Management Sciences paid host to “ZAB EXTRAVAGANZA (Revamped) Fall 2019”\, an elaborate platform for business students at SZABIST Islamabad which enables the participants to understand key concepts in entrepreneurial behavior (such as the entrepreneurial personality\, entrepreneurial decision making\, necessity-based entrepreneurship) and to use it to analyze market trends. The Day invited distinguished guests and entrepreneurs from a range of sectors to share their experience and help participants get their start-ups off the ground. \nAnother key feature of this year’s ZAB Extravaganza (Revamped)\, Entrepreneurship Day was the launch of online business startups by the final semesters of BBA the highlight among them was the Szabist Souvenir Shop.  To the amaze of the participating groups Department\, their products were sold well before in time and were praised by many. Co-organized by the Faculty of Management Sciences\, young entrepreneurs presented their business ideas and plans in the Arena with experts offering valuable feedback. The participating young entrepreneurs and the organizing committee of the Zab Extravaganza received outstanding appreciation by the Chief Guest\, Mr. Khusro Pervaiz Khan (Head of Campus) along Dr. Muhammad Asif Khan (Head of Department) and Dr. Shumaila Zeb (Program Manager) to help them realize their start-up project. ZAB EXTRAVAGANZA is one of SZABIST Islamabad’s signature events to support students who plan to go solo in the marketplace.
URL:https://szabist-isb.edu.pk/events-calendar/zab-extravaganza-revamped-fall-2019-2/
CATEGORIES:Fall 2019
ATTACH;FMTTYPE=image/jpeg:https://szabist-isb.edu.pk/wp-content/uploads/2023/12/26-4.jpg
END:VEVENT
BEGIN:VEVENT
DTSTART;VALUE=DATE:20191128
DTEND;VALUE=DATE:20191129
DTSTAMP:20260424T145148
CREATED:20191128T132027Z
LAST-MODIFIED:20231215T132057Z
UID:20824-1574899200-1574985599@szabist-isb.edu.pk
SUMMARY:Sports Week Closing Ceremony
DESCRIPTION:Victory is gained by resolution and determination “Prophet Mohammad (PBUH)”. First of all thank you\, everyone\, who participated in Sports Fiesta fall 2019 organized by sports society SZABIST Islamabad. \nIt is indeed a pleasure to congratulate Faculty advisor Mr. Bilal Ahmad and his sports society team also SZABIST Islamabad administration for making this event successful. Congratulations to those who emerged Victoriously.
URL:https://szabist-isb.edu.pk/events-calendar/sports-week-closing-ceremony/
CATEGORIES:Fall 2019
ATTACH;FMTTYPE=image/jpeg:https://szabist-isb.edu.pk/wp-content/uploads/2023/12/4-45.jpg
END:VEVENT
END:VCALENDAR