BEGIN:VCALENDAR
VERSION:2.0
PRODID:-//SZABIST University Islamabad - ECPv5.12.2//NONSGML v1.0//EN
CALSCALE:GREGORIAN
METHOD:PUBLISH
X-WR-CALNAME:SZABIST University Islamabad
X-ORIGINAL-URL:https://szabist-isb.edu.pk
X-WR-CALDESC:Events for SZABIST University Islamabad
REFRESH-INTERVAL;VALUE=DURATION:PT1H
X-Robots-Tag:noindex
X-PUBLISHED-TTL:PT1H
BEGIN:VTIMEZONE
TZID:Asia/Karachi
BEGIN:STANDARD
TZOFFSETFROM:+0500
TZOFFSETTO:+0500
TZNAME:PKT
DTSTART:20190101T000000
END:STANDARD
END:VTIMEZONE
BEGIN:VEVENT
DTSTART;VALUE=DATE:20191126
DTEND;VALUE=DATE:20191127
DTSTAMP:20260424T145144
CREATED:20191126T121027Z
LAST-MODIFIED:20231215T130227Z
UID:20725-1574726400-1574812799@szabist-isb.edu.pk
SUMMARY:Awareness Campaign on Depression & Suicide
DESCRIPTION:Social Sciences’ Students organized their 5th and 6th awareness campaign on Depression and Suicide \nUnder this domain\, students conducted various activities including Awareness desk\, walks at various locations of Islamabad and Rawalpindi\, developed a short video clip\, and a seminar graced by Dr. Kiran Amir and Mr. Ali Janjua. \nDr. Kiran highlighted the psychological aspects of depression\, various precursors and outcomes. Further\, she provided audience with effective coping strategies whenever they feel under stress and at risk of developing depression. \nMr. Ali Janjua as a motivational speaker and entrepreneur enlightened the session by sharing positivity and love among audience. He provided them with positive insight that how he struggled from scratch and now has become a successful person. He inspired them that they can achieve the same. \nBoth speakers emphasized that giving up should not be the option in life # never give up. \nIn the end\, HoD thanked the speakers\, students and Ms. Aliya for organizing such campaigns. \n\nTeam for Suicide Awareness: \nAmna Ashfaq\, Sara Ali\, Sehrish Batool\, Zuhaa Iqrar\, Ali Bukhari\, Hamna Rehman \nTeam for Depression Awareness: \nHaleema Nadeem\, Samna Hassan\, Mahen Hamda\, Sana Tariq\, Jamila\, Urooj Jamil\, Muslim Abbas
URL:https://szabist-isb.edu.pk/events-calendar/awareness-campaign-on-depression-suicide/
CATEGORIES:Fall 2019
ATTACH;FMTTYPE=image/jpeg:https://szabist-isb.edu.pk/wp-content/uploads/2023/12/13-14.jpg
END:VEVENT
BEGIN:VEVENT
DTSTART;VALUE=DATE:20191126
DTEND;VALUE=DATE:20191127
DTSTAMP:20260424T145144
CREATED:20191126T130504Z
LAST-MODIFIED:20231215T130533Z
UID:20750-1574726400-1574812799@szabist-isb.edu.pk
SUMMARY:SZABIST and FJWU Collaboration
DESCRIPTION:SZABIST and FJWU Collaboration \n26 NOVEMBER 2019 \n Fatima Jinnah Women University\, Rawalpindi conducted a workshop on “Writing Literature Review\, Analysis & Methodology” on November 26\, 2019. The workshop was organized by Offices of Research\, Innovation\, and Commercialization (ORIC) at Fatima Jinnah Women University for faculty members from different departments and the students of Ph D\, and MS/M Phil of the university. \nIn line with the collaboration of SZABIST with FJWU\, Mr. Muddasar Ghani Khwaja (Lecturer- Faculty of Management Sciences) represented SZABIST and provided insights on the contemporary approaches of conducting academic research. He emphasized on the need of blending theoretical and contextual analysis for precision in academic research endeavors. \nThe session was interactive and students enthusiastically participated in the intellectual discourse. The main focus of their inquiry was the dynamics of literature review with conceptual\, theoretical and empirical perspectives and the methodological aspects of the research. \nThe session provided a platform to leverage the collaboration between SZABIST and FJWU for mutual benefits and the shared goal of quality education for the students for the socio-economic development of the county.
URL:https://szabist-isb.edu.pk/events-calendar/szabist-and-fjwu-collaboration/
CATEGORIES:Fall 2019
ATTACH;FMTTYPE=image/jpeg:https://szabist-isb.edu.pk/wp-content/uploads/2023/12/2-40.jpg
END:VEVENT
END:VCALENDAR