BEGIN:VCALENDAR
VERSION:2.0
PRODID:-//SZABIST University Islamabad - ECPv5.12.2//NONSGML v1.0//EN
CALSCALE:GREGORIAN
METHOD:PUBLISH
X-WR-CALNAME:SZABIST University Islamabad
X-ORIGINAL-URL:https://szabist-isb.edu.pk
X-WR-CALDESC:Events for SZABIST University Islamabad
REFRESH-INTERVAL;VALUE=DURATION:PT1H
X-Robots-Tag:noindex
X-PUBLISHED-TTL:PT1H
BEGIN:VTIMEZONE
TZID:Asia/Karachi
BEGIN:STANDARD
TZOFFSETFROM:+0500
TZOFFSETTO:+0500
TZNAME:PKT
DTSTART:20190101T000000
END:STANDARD
END:VTIMEZONE
BEGIN:VEVENT
DTSTART;VALUE=DATE:20191118
DTEND;VALUE=DATE:20191119
DTSTAMP:20260424T145145
CREATED:20191118T121327Z
LAST-MODIFIED:20231202T121354Z
UID:20433-1574035200-1574121599@szabist-isb.edu.pk
SUMMARY:TRIP to Public News TV
DESCRIPTION:BBA-5 (TRIP to “Public News TV”) \n  \nThe department of “Management Sciences” organized an educational trip on 18 November 2019 for the students of BBA-5 enrolled in the course of “Media Management” to the regional headquarters of “Public News TV” news channel in sector G-5 Islamabad\, accompanied by their instructor Mr. Syed Shahwar Hussain. The educational trip was to provide a platform for our business students to gain a deep understanding of the electronic media\, planning\, operation\, execution\, and management of their news content. \n\nThe information session was organized and held by Mr. Safdar\, Mr. Harmeet Singh\, Mr.Faisal and M/s Ayesha at Public News TV. The team briefed about the working of different media organizations\, regulatory affairs and the changing dynamics of media trends along with the question and answer session which imparted practical knowledge to the students which they can incorporate into their final semester project and future as well. This activity enabled the students to gain knowledge and a clear picture of the rules\, regulations\, and dynamics that the media channel goes through in handling the media content.
URL:https://szabist-isb.edu.pk/events-calendar/trip-to-public-news-tv/
LOCATION:SZABIST University Islamabad\, Plot No 67، 4 Street 9\, H 8/4\, Islamabad\, Islamabad\, Pakistan
CATEGORIES:Fall 2019
ATTACH;FMTTYPE=image/jpeg:https://szabist-isb.edu.pk/wp-content/uploads/2023/12/3-33.jpg
END:VEVENT
END:VCALENDAR