BEGIN:VCALENDAR
VERSION:2.0
PRODID:-//SZABIST University Islamabad - ECPv5.12.2//NONSGML v1.0//EN
CALSCALE:GREGORIAN
METHOD:PUBLISH
X-WR-CALNAME:SZABIST University Islamabad
X-ORIGINAL-URL:https://szabist-isb.edu.pk
X-WR-CALDESC:Events for SZABIST University Islamabad
REFRESH-INTERVAL;VALUE=DURATION:PT1H
X-Robots-Tag:noindex
X-PUBLISHED-TTL:PT1H
BEGIN:VTIMEZONE
TZID:Asia/Karachi
BEGIN:STANDARD
TZOFFSETFROM:+0500
TZOFFSETTO:+0500
TZNAME:PKT
DTSTART:20190101T000000
END:STANDARD
END:VTIMEZONE
BEGIN:VEVENT
DTSTART;VALUE=DATE:20191112
DTEND;VALUE=DATE:20191113
DTSTAMP:20260424T145144
CREATED:20191113T120130Z
LAST-MODIFIED:20231202T120218Z
UID:20377-1573516800-1573603199@szabist-isb.edu.pk
SUMMARY:Faculty Training Program
DESCRIPTION:Emotional Intelligence (EQ) is one of the top 10 skills of the future in the wake of the 4th industrial AI revolution( World Economic Forum\, 2019). Since studies have linked EQ crucial for\, academic\, professional and life success\, keeping in view the importance of the topic a faculty development workshop was arranged by the Management Science Department under the mentorship of HoD (MS) Professor Dr. M Asif Khan. \n\nThe workshop titled\, “ Role of Emotional intelligence in teaching and research” provided awareness\, and brainstormed ways emotional knowledge could be integrated into teaching methodologies and provided cutting edge research on the subject. It was aimed at providing practical tools to self-awareness\, developing a growth mindset to grow professionally and develop a research profile. \n\nThe learning outcomes were: \n\nUnderstand the basics of emotions and research on neuroscience on working of the brain\nUnderstand the dimensions of EQ at the workplace\nBusts the myths of self-sameness\, and learn self-awareness\nDevelop a growth mindset\nKnow the determinants to become an effective and emotionally intelligent teacher\n\n\nThe workshop was conducted by Dr. Faryal Razzaq Assistant Professor\, Management Sciences department\, SZABIST Pakistan\, She holds a PhD in EQ and developed the first EQ model in Pakistani workplace\, she is a certified Mindfulness coach\, Cognitive Emotive Behavioral therapist and a social psychologist. She is also the CEO of The FEEEL (PVT) Ltd first company that provides digital emotional hygiene solutions.
URL:https://szabist-isb.edu.pk/events-calendar/faculty-training-program-2/
LOCATION:SZABIST University Islamabad\, Plot No 67، 4 Street 9\, H 8/4\, Islamabad\, Islamabad\, Pakistan
CATEGORIES:Fall 2019
ATTACH;FMTTYPE=image/jpeg:https://szabist-isb.edu.pk/wp-content/uploads/2023/12/2-28.jpg
END:VEVENT
END:VCALENDAR