BEGIN:VCALENDAR
VERSION:2.0
PRODID:-//SZABIST University Islamabad - ECPv5.12.2//NONSGML v1.0//EN
CALSCALE:GREGORIAN
METHOD:PUBLISH
X-WR-CALNAME:SZABIST University Islamabad
X-ORIGINAL-URL:https://szabist-isb.edu.pk
X-WR-CALDESC:Events for SZABIST University Islamabad
REFRESH-INTERVAL;VALUE=DURATION:PT1H
X-Robots-Tag:noindex
X-PUBLISHED-TTL:PT1H
BEGIN:VTIMEZONE
TZID:Asia/Karachi
BEGIN:STANDARD
TZOFFSETFROM:+0500
TZOFFSETTO:+0500
TZNAME:PKT
DTSTART:20190101T000000
END:STANDARD
END:VTIMEZONE
BEGIN:VEVENT
DTSTART;VALUE=DATE:20191106
DTEND;VALUE=DATE:20191107
DTSTAMP:20260424T145045
CREATED:20191106T091752Z
LAST-MODIFIED:20231202T091822Z
UID:20335-1572998400-1573084799@szabist-isb.edu.pk
SUMMARY:Romanian Ambassador visit at SZABIST
DESCRIPTION:TALK BY AMBASSADOR TO ROMANIA TO PAKISTAN \nH.E. NICOLAE GOIA \n06 NOVEMBER\, 2019 \n\nE. Nocolae Goia visited the SZABIST Islamabad Campus and addressed the students on the topic of “Romania and Pakistan Relationship”\n\nThe Ambassador highlighted the need for good relationship among countries to promote harmony\, world peace\, and collaborative efforts to eradicate poverty.  He further highlighted the important aspects of Romanian history\, culture\, family life\, educational dimensions\, music and cuisine of Romania and its role in promoting global harmony and the role of youth in the nation building. \nHe emphasized the role of youth in the nation building. The Ambassador emphasized that the youth of a nation are the change agent who can transform the society and the nation. The Ambassador highlighted that Pakistani youth have tremendous potentials and have the capacity to initiate changes in the society for the benefit of all. He advised the students to channel their energies to positive outcomes and act responsibly to remain relevant and competitive in the global world. \n\nThe talk followed by an interactive questions/answer sessions. The students were enthusiastic about the talk and asked various questions ranging from culture\, educational opportunities\, immigration\, music and cuisine\, and the prospects of further enhancing the existing relationship between both the countries. The students identified the need for people to people contact the mutual understanding and a collaborative approach as good partners for the solutions of problems facing both the countries. \nThe Ambassador thanked SZABIST and the students for their energetic participation and interactive dialogue. \nKhusro Pervaiz Khan\, HOC Islamabad Campus presented the souvenir to the Ambassador.
URL:https://szabist-isb.edu.pk/events-calendar/romanian-ambassador-visit-at-szabist/
LOCATION:SZABIST University Islamabad\, Plot No 67، 4 Street 9\, H 8/4\, Islamabad\, Islamabad\, Pakistan
CATEGORIES:Fall 2019
ATTACH;FMTTYPE=image/jpeg:https://szabist-isb.edu.pk/wp-content/uploads/2023/12/7-22.jpg
END:VEVENT
BEGIN:VEVENT
DTSTART;VALUE=DATE:20191106
DTEND;VALUE=DATE:20191107
DTSTAMP:20260424T145045
CREATED:20191106T092133Z
LAST-MODIFIED:20231202T092210Z
UID:20345-1572998400-1573084799@szabist-isb.edu.pk
SUMMARY:Day-3 Awareness on Child Abuse
DESCRIPTION:Day-3 Awareness on Child Abuse (emotional\, physical\, sexual\, and neglect) \n\nSocial Sciences Department in continuation of its awareness campaign organized a seminar on 6th Nov 2019. \nSenator Ms. Sitara Ayaz and Dr. Shaheen Ashraf graced the occasion and enlightened the audience in the context of child abuse causes\, legal and social repercussion\, government’s role and policies\, as well as the preventive strategies. \n\nStudents of BSSS-3 Social Psychology class also showed the various activities that they have performed in the whole week for awareness of the masses within and outside of campus. Moreover\, they depicted various forms of child abuse in role-plays along with the messages from influential people of the society including media celebrities. \n\nIn the end\, guest speakers and HoD SS Dr. Taraq appreciated and thanked Ms. Aliya Abdul Hayee for organizing awareness campaigns and bringing out the hidden talents of students. They appreciated that the group who has organized this campaign has immaculately done the work on a very sensitive issue that is the dire need of time. \n  \nGroup Members of Awareness on Child Abuse Campaign: \nAimen Shahzad\, Fareha Meraj\, Johum Farooqui\, Aimen Adnan\, Malala Khan\, Hafsa Zahid\, Rubab Fatima
URL:https://szabist-isb.edu.pk/events-calendar/day-3-awareness-on-child-abuse/
LOCATION:SZABIST University Islamabad\, Plot No 67، 4 Street 9\, H 8/4\, Islamabad\, Islamabad\, Pakistan
CATEGORIES:Fall 2019
ATTACH;FMTTYPE=image/jpeg:https://szabist-isb.edu.pk/wp-content/uploads/2023/12/11-11.jpg
END:VEVENT
END:VCALENDAR