BEGIN:VCALENDAR
VERSION:2.0
PRODID:-//SZABIST University Islamabad - ECPv5.12.2//NONSGML v1.0//EN
CALSCALE:GREGORIAN
METHOD:PUBLISH
X-WR-CALNAME:SZABIST University Islamabad
X-ORIGINAL-URL:https://szabist-isb.edu.pk
X-WR-CALDESC:Events for SZABIST University Islamabad
REFRESH-INTERVAL;VALUE=DURATION:PT1H
X-Robots-Tag:noindex
X-PUBLISHED-TTL:PT1H
BEGIN:VTIMEZONE
TZID:Asia/Karachi
BEGIN:STANDARD
TZOFFSETFROM:+0500
TZOFFSETTO:+0500
TZNAME:PKT
DTSTART:20190101T000000
END:STANDARD
END:VTIMEZONE
BEGIN:VEVENT
DTSTART;VALUE=DATE:20191003
DTEND;VALUE=DATE:20191004
DTSTAMP:20260424T182137
CREATED:20191003T082312Z
LAST-MODIFIED:20231202T082337Z
UID:20146-1570060800-1570147199@szabist-isb.edu.pk
SUMMARY:The MOU Signing Ceremony
DESCRIPTION:The MOU signing ceremony between Fatima Jinnah Women University and SZABIST Islamabad Campus was held on 3rd October 2019 at Vice-Chancellor Office\, Fatima Jinnah Women University. The purpose of the MOU was Academic and Research collaboration between both universities.
URL:https://szabist-isb.edu.pk/events-calendar/the-mou-signing-ceremony/
CATEGORIES:Fall 2019,MoU Signing Ceremony
ATTACH;FMTTYPE=image/jpeg:https://szabist-isb.edu.pk/wp-content/uploads/2023/12/5-13.jpg
END:VEVENT
END:VCALENDAR