BEGIN:VCALENDAR
VERSION:2.0
PRODID:-//SZABIST University Islamabad - ECPv5.12.2//NONSGML v1.0//EN
CALSCALE:GREGORIAN
METHOD:PUBLISH
X-WR-CALNAME:SZABIST University Islamabad
X-ORIGINAL-URL:https://szabist-isb.edu.pk
X-WR-CALDESC:Events for SZABIST University Islamabad
REFRESH-INTERVAL;VALUE=DURATION:PT1H
X-Robots-Tag:noindex
X-PUBLISHED-TTL:PT1H
BEGIN:VTIMEZONE
TZID:Asia/Karachi
BEGIN:STANDARD
TZOFFSETFROM:+0500
TZOFFSETTO:+0500
TZNAME:PKT
DTSTART:20190101T000000
END:STANDARD
END:VTIMEZONE
BEGIN:VEVENT
DTSTART;VALUE=DATE:20191002
DTEND;VALUE=DATE:20191003
DTSTAMP:20260424T182025
CREATED:20191002T081811Z
LAST-MODIFIED:20231202T082058Z
UID:20131-1569974400-1570060799@szabist-isb.edu.pk
SUMMARY:Talk by Mr. Raja Zia ul Haq
DESCRIPTION:Mr. Raja is regularly invited by SZABIST for delivering a talk related to Personal Management to the incoming class of BBA. He is a very good orator and talks in the language easily grasped and understood by the students. This time he talked about “Setting Life Time Goals and How to Achieve the same”\, including to refrain from drugs and bad company. Mr. Raja started with his personal example of spending first 30 years of his life with the aim of enjoying and merry-making. \nA fatal accident\, in which he luckily escaped\, changed the course of his life. Here He gave the reference of the first habit from book\, The 7 Habits of Highly Effective People by Stephan Covey-“Begin with the End in Mind”. He advised the students to think in future and decide what they wanted to be. His emphasis was to take guidance from the Holy Book and Life of Prophet Muhammad (peace be upon him). \nHe cautioned the audience to take care of the health as nothing can be achieved by a sick body or mind. Mr. Raja also advised the students to refrain from drugs and alcohol\, as these adversely affect the life of the individual as well as his near and dear ones. His talk culminated at the 7th Habit-“Sharpen the Saw” and told the students to keep reviewing and improving various aspects of life. Mr. Raja kept the students engaged by interactive talk\, inviting questions and discussion on various points. Approximately over 100 students and faculty members of BBA attended the lecture.
URL:https://szabist-isb.edu.pk/events-calendar/talk-by-mr-raja-zia-ul-haq/
CATEGORIES:Fall 2019
ATTACH;FMTTYPE=image/jpeg:https://szabist-isb.edu.pk/wp-content/uploads/2023/12/4-14.jpg
END:VEVENT
END:VCALENDAR