BEGIN:VCALENDAR
VERSION:2.0
PRODID:-//SZABIST University Islamabad - ECPv5.12.2//NONSGML v1.0//EN
CALSCALE:GREGORIAN
METHOD:PUBLISH
X-WR-CALNAME:SZABIST University Islamabad
X-ORIGINAL-URL:https://szabist-isb.edu.pk
X-WR-CALDESC:Events for SZABIST University Islamabad
REFRESH-INTERVAL;VALUE=DURATION:PT1H
X-Robots-Tag:noindex
X-PUBLISHED-TTL:PT1H
BEGIN:VTIMEZONE
TZID:Asia/Karachi
BEGIN:STANDARD
TZOFFSETFROM:+0500
TZOFFSETTO:+0500
TZNAME:PKT
DTSTART:20190101T000000
END:STANDARD
END:VTIMEZONE
BEGIN:VEVENT
DTSTART;VALUE=DATE:20190925
DTEND;VALUE=DATE:20190926
DTSTAMP:20260424T201827
CREATED:20190925T071345Z
LAST-MODIFIED:20231202T071435Z
UID:20078-1569369600-1569455999@szabist-isb.edu.pk
SUMMARY:The Art Of Advocacy
DESCRIPTION:Advocacy is a process that involves a series of actions conducted by organized citizens in order to: transform power relationships\, achieve specific changes in policy\, program\, strategies or allocation of resources; in the public or the private sector. \nIn order to equipped students of Community Services on the concept of “Community Mobilization and Advocacy” an interactive session has been arranged by Ms. Sana Mukhtar (Lecturer-Dept of Social Sciences) on “The Art of Advocacy”. \nThe session was lead by the Advocacy and Campaign specialist “Mr. Sarmad Iqbal” who is currently working in Islamic Relief.  Mr. Sarmad efficiently explained the concept of advocacy\, the role of advocate\, lobbying and the difference between community mobilization and advocacy. \nEvent Date: 25th September 2019
URL:https://szabist-isb.edu.pk/events-calendar/the-art-of-advocacy/
CATEGORIES:Fall 2019
ATTACH;FMTTYPE=image/jpeg:https://szabist-isb.edu.pk/wp-content/uploads/2023/12/2-10.jpg
END:VEVENT
END:VCALENDAR