BEGIN:VCALENDAR
VERSION:2.0
PRODID:-//SZABIST University Islamabad - ECPv5.12.2//NONSGML v1.0//EN
CALSCALE:GREGORIAN
METHOD:PUBLISH
X-WR-CALNAME:SZABIST University Islamabad
X-ORIGINAL-URL:https://szabist-isb.edu.pk
X-WR-CALDESC:Events for SZABIST University Islamabad
REFRESH-INTERVAL;VALUE=DURATION:PT1H
X-Robots-Tag:noindex
X-PUBLISHED-TTL:PT1H
BEGIN:VTIMEZONE
TZID:Asia/Karachi
BEGIN:STANDARD
TZOFFSETFROM:+0500
TZOFFSETTO:+0500
TZNAME:PKT
DTSTART:20190101T000000
END:STANDARD
END:VTIMEZONE
BEGIN:VEVENT
DTSTART;VALUE=DATE:20190921
DTEND;VALUE=DATE:20190922
DTSTAMP:20260424T201827
CREATED:20190921T125718Z
LAST-MODIFIED:20231201T125752Z
UID:20050-1569024000-1569110399@szabist-isb.edu.pk
SUMMARY:SZABIST Media Science Live Performance on Situation of Kashmir
DESCRIPTION:The Department of Media Sciences\, SZABIST Islamabad\, organized a live performance about Kashmir situation on September 21 2019\, at 3.00 pm in Centaurus Mall – the biggest and distinguished mall of Rawalpindi and Islamabad. The objective of this activity was to highlight the situation of Indian-occupied Kashmir. \nFirst and second semester students of Media Science department\, SZABIST Islamabad organized this activity under the guidance of Dr. Wajid Zulqarnain (Program Manager BS-MS). The act began with the entry of the students disguising as Indian Army\, intruding the shops and causing unrest. The act went on showing the atrocities of Indian army and pro-Indian groups against the Kashmiris. A huge live audience watched the show and applauded for students’ performance and for the overall act. \nStudents performed with full interest and enthusiasm. The camera captured crying people upon seeing the depiction of Indian Army’s brutalities. The activity won people’s heart and earned positive reviews. Mrs. Mishal Malik\, wife of Kashmiri leader Yasin Malik\, was the chief guest of the event who witnessed the live performance of the SZABIST Islamabad students and delivered a speech on the occasion. 3.00 pm and the news was also published in DAWN newspaper.
URL:https://szabist-isb.edu.pk/events-calendar/szabist-media-science-live-performance-on-situation-of-kashmir/
CATEGORIES:Fall 2019
ATTACH;FMTTYPE=image/jpeg:https://szabist-isb.edu.pk/wp-content/uploads/2023/12/5-7-rotated.jpg
END:VEVENT
END:VCALENDAR