BEGIN:VCALENDAR
VERSION:2.0
PRODID:-//SZABIST University Islamabad - ECPv5.12.2//NONSGML v1.0//EN
CALSCALE:GREGORIAN
METHOD:PUBLISH
X-WR-CALNAME:SZABIST University Islamabad
X-ORIGINAL-URL:https://szabist-isb.edu.pk
X-WR-CALDESC:Events for SZABIST University Islamabad
REFRESH-INTERVAL;VALUE=DURATION:PT1H
X-Robots-Tag:noindex
X-PUBLISHED-TTL:PT1H
BEGIN:VTIMEZONE
TZID:Asia/Karachi
BEGIN:STANDARD
TZOFFSETFROM:+0500
TZOFFSETTO:+0500
TZNAME:PKT
DTSTART:20250101T000000
END:STANDARD
END:VTIMEZONE
BEGIN:VEVENT
DTSTART;TZID=Asia/Karachi:20251210T080000
DTEND;TZID=Asia/Karachi:20251210T170000
DTSTAMP:20260420T220841
CREATED:20260105T050823Z
LAST-MODIFIED:20260114T041619Z
UID:30581-1765353600-1765386000@szabist-isb.edu.pk
SUMMARY:Hands-On Workshop on AI in Marketing for Business Analytics Students at SZABIST Islamabad
DESCRIPTION:SZABIST Islamabad successfully conducted a hands-on workshop titled “AI in Marketing” for BS Business Analytics (2nd Semester) students\, reinforcing the university’s commitment to industry-relevant and experiential learning. The workshop was organized under the leadership of Dr. Muhammad Shafiq\, Program Manager – EMBA\, PMBA\, and MHRM\, as part of SZABIST’s ongoing initiative to bridge academic knowledge with practical application. \nThe session was facilitated by Malik Saram Hadi\, CEO of SkillSathi\, who built upon concepts introduced in the “AI in Business” course. During the interactive workshop\, students explored advanced AI tools such as ImageArt and Bolt\, enabling them to engage in AI-driven content creation\, website development\, and AI agent design. \nStudents also gained practical exposure to game development using Google Gemini and learned SEO optimization techniques\, aligning marketing strategies with artificial intelligence to enhance digital performance. The workshop provided valuable hands-on experience in applying AI solutions to real-world marketing and analytics challenges. \nThe session concluded with Dr. Muhammad Shafiq expressing appreciation to the facilitator and presenting him with a SZABIST Shield as a token of gratitude. Such initiatives reflect SZABIST Islamabad’s dedication to innovative teaching\, digital transformation\, and preparing students for the evolving demands of AI-driven marketing and analytics.
URL:https://szabist-isb.edu.pk/events-calendar/hands-on-workshop-on-ai-in-marketing-for-business-analytics-students-at-szabist-islamabad/
CATEGORIES:Fall 2025,Workshop
ATTACH;FMTTYPE=image/jpeg:https://szabist-isb.edu.pk/wp-content/uploads/2026/01/597868610_1165161479063632_6599316587939550920_n.jpg
END:VEVENT
BEGIN:VEVENT
DTSTART;TZID=Asia/Karachi:20251210T080000
DTEND;TZID=Asia/Karachi:20251210T170000
DTSTAMP:20260420T220841
CREATED:20260105T051401Z
LAST-MODIFIED:20260114T043111Z
UID:30585-1765353600-1765386000@szabist-isb.edu.pk
SUMMARY:MBA Fest 2025 Grand Opening Ceremony at SZABIST Islamabad
DESCRIPTION:SZABIST University Islamabad officially launched MBA Fest 2025 with a vibrant and power-packed Grand Opening Ceremony\, marking the beginning of an exciting celebration of culture\, creativity\, and student spirit. The ceremony featured energetic performances\, cultural dances\, and engaging activities that created an unforgettable experience for attendees. \nThe event was graced by the presence and continued support of the university’s upper management\, including Mr. Khusro Pervaiz Khan (Head of Campus) and Prof. Dr. Muhammad Asif Khan (Associate Dean). Faculty and staff members also attended the ceremony\, with special acknowledgment to Dr. Taraq Waheed\, Head of the Department of Social Sciences\, for his valuable contribution. \nThe opening ceremony was inaugurated by Prof. Dr. Shazia Akhtar\, Head of the Department of Management Sciences\, whose inspiring presence and encouragement set the tone for the festivities. Appreciation was also extended to Dr. Zoya Wajid Satti\, Focal Person of the MBA Club\, and the dedicated MBA Club Core Team for their exceptional planning and execution. \nThe ceremony was further honored by the presence of Ms. Sana Humayun\, the Chief Guest\, whose motivational remarks energized the audience. Highlights of the event included an adrenaline-filled Bike Show and captivating Cultural Dance performances\, celebrating diversity and inclusion across the SZABIST community. \nThe Grand Opening Ceremony of MBA Fest 2025 successfully blended energy\, culture\, and celebration—setting the stage for an exciting and memorable festival ahead.
URL:https://szabist-isb.edu.pk/events-calendar/mba-fest-2025-grand-opening-ceremony-at-szabist-islamabad/
CATEGORIES:Fall 2025,SZABIST Events
ATTACH;FMTTYPE=image/jpeg:https://szabist-isb.edu.pk/wp-content/uploads/2026/01/577042861_1165139049065875_9162633203468864342_n.jpg
END:VEVENT
BEGIN:VEVENT
DTSTART;TZID=Asia/Karachi:20251210T080000
DTEND;TZID=Asia/Karachi:20251210T170000
DTSTAMP:20260420T220841
CREATED:20260106T095029Z
LAST-MODIFIED:20260114T043140Z
UID:30659-1765353600-1765386000@szabist-isb.edu.pk
SUMMARY:Cook-Off Competition Highlights at MBA Fest 2025\, SZABIST Islamabad
DESCRIPTION:The Cook-Off Competition at MBA Fest 2025 was a vibrant and exciting event where students showcased their culinary talent\, creativity\, and teamwork in an energetic and engaging atmosphere. Participants impressed the audience and judges with unique recipes\, innovative presentations\, and exceptional coordination\, making the competition a flavorful success. \nThe event was held with the continuous support and encouragement of Prof. Dr. Shazia Akhtar\, Head of the Department of Management Sciences. SZABIST Islamabad was honored to have Mr. Adnan Riaz and Mr. Umer Farooq\, professional chefs from Ramada and Marriott\, as esteemed judges\, who evaluated the participants with expertise\, professionalism\, and warmth. \nSpecial appreciation is extended to Dr. Shumaila Zeb\, Dr. Hassan Raza\, and Dr. Iffat Rasool for gracing the event with their presence and supporting student initiatives. The competition was successfully organized by the MBA Club under the leadership of Dr. Zoya Wajid Satti\, Focal Person\, along with the dedicated MBA Club Core Team\, whose efforts ensured smooth execution and an engaging experience for all. \nThe Cook-Off Competition added excitement and creativity to MBA Fest 2025\, celebrating student talent and fostering collaboration beyond the classroom.
URL:https://szabist-isb.edu.pk/events-calendar/cook-off-competition-highlights-at-mba-fest-2025-szabist-islamabad/
CATEGORIES:Fall 2025,Semester Activities
ATTACH;FMTTYPE=image/jpeg:https://szabist-isb.edu.pk/wp-content/uploads/2026/01/596427991_1165153122397801_4020886035809238326_n-2.jpg
END:VEVENT
BEGIN:VEVENT
DTSTART;TZID=Asia/Karachi:20251210T080000
DTEND;TZID=Asia/Karachi:20251210T170000
DTSTAMP:20260420T220841
CREATED:20260106T095650Z
LAST-MODIFIED:20260114T050816Z
UID:30664-1765353600-1765386000@szabist-isb.edu.pk
SUMMARY:Poetry Competition at MBA Fest 2025 Celebrates Creativity and Expression
DESCRIPTION:The Poetry Competition at MBA Fest 2025 was a beautiful and inspiring event where students expressed their creativity\, emotions\, and artistic talent through powerful words and captivating performances. Participants impressed the audience with heartfelt poetry\, showcasing confidence\, expression\, and literary depth. \nThe event was held with the continued guidance and motivation of Prof. Dr. Shazia Akhtar\, Head of the Department of Management Sciences. SZABIST Islamabad was honored to have Mr. Saqlain Haider as the esteemed judge\, whose literary insight and appreciation for art and expression enriched the evaluation process. \nOrganized by the MBA Club\, the competition was led by Dr. Zoya Wajid Satti\, Focal Person\, and supported by the dedicated MBA Club Core Team. Their careful planning and commitment ensured a smooth\, engaging\, and memorable experience for participants and the audience alike. \nThe Poetry Competition added depth and artistic flair to MBA Fest 2025\, celebrating student creativity and the power of self-expression.
URL:https://szabist-isb.edu.pk/events-calendar/poetry-competition-at-mba-fest-2025-celebrates-creativity-and-expression/
CATEGORIES:Fall 2025,Semester Activities
ATTACH;FMTTYPE=image/jpeg:https://szabist-isb.edu.pk/wp-content/uploads/2026/01/596194489_1165156209064159_7883543631650845065_n.jpg
END:VEVENT
BEGIN:VEVENT
DTSTART;TZID=Asia/Karachi:20251210T080000
DTEND;TZID=Asia/Karachi:20251210T170000
DTSTAMP:20260420T220841
CREATED:20260106T100128Z
LAST-MODIFIED:20260114T050737Z
UID:30672-1765353600-1765386000@szabist-isb.edu.pk
SUMMARY:MBA Fest 2025 Sports Event Showcases Energy\, Team Spirit\, and Campus Unity
DESCRIPTION:The MBA Fest 2025 Sports Event brought tremendous energy\, excitement\, and team spirit to the SZABIST Islamabad campus. Students enthusiastically participated in a variety of sports activities\, creating a lively and engaging atmosphere filled with competition\, collaboration\, and celebration. \nAlongside the sports activities\, food stalls added to the festive spirit\, allowing students to relax\, socialize\, and enjoy memorable moments together. The event fostered strong connections among participants while promoting physical activity\, teamwork\, and campus camaraderie. \nThe event was held with the steadfast encouragement and support of Prof. Dr. Shazia Akhtar\, Head of the Department of Management Sciences. The MBA Club\, under the leadership of Dr. Zoya Wajid Satti as Focal Person and supported by its dedicated core team\, successfully organized the sports event with excellent coordination and planning. Their commitment ensured a smooth\, vibrant\, and enjoyable sports day for all participants. \nThe Sports Event added an exciting and dynamic dimension to MBA Fest 2025\, celebrating student engagement\, unity\, and an active campus culture.
URL:https://szabist-isb.edu.pk/events-calendar/mba-fest-2025-sports-event-showcases-energy-team-spirit-and-campus-unity/
CATEGORIES:Fall 2025,Semester Activities
ATTACH;FMTTYPE=image/jpeg:https://szabist-isb.edu.pk/wp-content/uploads/2026/01/598485486_1165159015730545_3299244667174304045_n.jpg
END:VEVENT
END:VCALENDAR