BEGIN:VCALENDAR
VERSION:2.0
PRODID:-//SZABIST University Islamabad - ECPv5.12.2//NONSGML v1.0//EN
CALSCALE:GREGORIAN
METHOD:PUBLISH
X-WR-CALNAME:SZABIST University Islamabad
X-ORIGINAL-URL:https://szabist-isb.edu.pk
X-WR-CALDESC:Events for SZABIST University Islamabad
REFRESH-INTERVAL;VALUE=DURATION:PT1H
X-Robots-Tag:noindex
X-PUBLISHED-TTL:PT1H
BEGIN:VTIMEZONE
TZID:Asia/Karachi
BEGIN:STANDARD
TZOFFSETFROM:+0500
TZOFFSETTO:+0500
TZNAME:PKT
DTSTART:20250101T000000
END:STANDARD
END:VTIMEZONE
BEGIN:VEVENT
DTSTART;TZID=Asia/Karachi:20251205T080000
DTEND;TZID=Asia/Karachi:20251205T170000
DTSTAMP:20260420T215527
CREATED:20260103T051854Z
LAST-MODIFIED:20260113T052719Z
UID:30441-1764921600-1764954000@szabist-isb.edu.pk
SUMMARY:Communication Skills Session: Building Confidence\, Clarity & Professional Excellence
DESCRIPTION:SZABIST Islamabad conducted an engaging Communication Skills Session  for BSBA OCPS and EWS first-year students. The session was led by Ms. Farrah Khawaja\, Lecturer and Content Manager\, and focused on strengthening students’ confidence\, clarity\, and professional communication abilities. \nStudents presented their understanding in a formal and structured manner while exploring essential communication concepts\, including apprehension and stage fright\, emotional intelligence and constructive feedback\, conflict resolution and active listening\, as well as public speaking and confidence building. The session successfully blended theoretical knowledge with practical learning. \nKey highlights included identifying communication barriers\, overcoming apprehension\, enhancing emotional intelligence\, developing effective listening skills\, and building confidence for professional interactions. The activity aimed to empower students with effective communication strategies\, foster critical thinking and self-awareness\, and encourage the practical application of communication skills in real-life and professional settings.
URL:https://szabist-isb.edu.pk/events-calendar/communication-skills-session-building-confidence-clarity-professional-excellence/
CATEGORIES:Fall 2025,Semester Activities
ATTACH;FMTTYPE=image/jpeg:https://szabist-isb.edu.pk/wp-content/uploads/2026/01/594420611_1160784252834688_1714741576074625426_n.jpg
END:VEVENT
END:VCALENDAR