BEGIN:VCALENDAR
VERSION:2.0
PRODID:-//SZABIST University Islamabad - ECPv5.12.2//NONSGML v1.0//EN
CALSCALE:GREGORIAN
METHOD:PUBLISH
X-WR-CALNAME:SZABIST University Islamabad
X-ORIGINAL-URL:https://szabist-isb.edu.pk
X-WR-CALDESC:Events for SZABIST University Islamabad
REFRESH-INTERVAL;VALUE=DURATION:PT1H
X-Robots-Tag:noindex
X-PUBLISHED-TTL:PT1H
BEGIN:VTIMEZONE
TZID:Asia/Karachi
BEGIN:STANDARD
TZOFFSETFROM:+0500
TZOFFSETTO:+0500
TZNAME:PKT
DTSTART:20250101T000000
END:STANDARD
END:VTIMEZONE
BEGIN:VEVENT
DTSTART;VALUE=DATE:20250417
DTEND;VALUE=DATE:20250418
DTSTAMP:20260421T121624
CREATED:20250417T090448Z
LAST-MODIFIED:20250422T062553Z
UID:28682-1744848000-1744934399@szabist-isb.edu.pk
SUMMARY:Discussion on Green Initiative at SZABIST University Islamabad
DESCRIPTION:  \nDiscussion on Green Initiative at SZABIST University Islamabad \nThe Environment & Climate Change Society\, in collaboration with the Community Services and Social Responsibility Society\, organized a discussion on the Green Initiative on Thursday\, April 17\, 2025. The event was graced by the Head of Campus\, SZABIST University Islamabad\, Mr. Khusro Pervaiz Khan\, who addressed the audience and highlighted the steps taken towards developing a greener campus. \nStudents from the BBA and BSCS programs actively participated in the session\, sharing innovative ideas to further enhance sustainability efforts at the university. Additionally\, the Head of the Entrepreneurial Society introduced an exciting opportunity for students to engage in a green commute initiative on campus\, encouraging eco-friendly transportation methods. \nThe session concluded with a collective commitment to “Grow It Green”—an inspiring call to action for a more sustainable future. \n 
URL:https://szabist-isb.edu.pk/events-calendar/discussion-on-green-initiative-at-szabist-university-islamabad/
CATEGORIES:Sessions,SZABIST Events,SZABIST Societies
ATTACH;FMTTYPE=image/jpeg:https://szabist-isb.edu.pk/wp-content/uploads/2025/04/3-7-2228585858585-77777777777777.jpg
END:VEVENT
END:VCALENDAR