BEGIN:VCALENDAR
VERSION:2.0
PRODID:-//SZABIST University Islamabad - ECPv5.12.2//NONSGML v1.0//EN
CALSCALE:GREGORIAN
METHOD:PUBLISH
X-WR-CALNAME:SZABIST University Islamabad
X-ORIGINAL-URL:https://szabist-isb.edu.pk
X-WR-CALDESC:Events for SZABIST University Islamabad
REFRESH-INTERVAL;VALUE=DURATION:PT1H
X-Robots-Tag:noindex
X-PUBLISHED-TTL:PT1H
BEGIN:VTIMEZONE
TZID:Asia/Karachi
BEGIN:STANDARD
TZOFFSETFROM:+0500
TZOFFSETTO:+0500
TZNAME:PKT
DTSTART:20250101T000000
END:STANDARD
END:VTIMEZONE
BEGIN:VEVENT
DTSTART;TZID=Asia/Karachi:20250303T080000
DTEND;TZID=Asia/Karachi:20250303T170000
DTSTAMP:20260423T173341
CREATED:20250303T113555Z
LAST-MODIFIED:20250303T113555Z
UID:28424-1740988800-1741021200@szabist-isb.edu.pk
SUMMARY:15th Annual Convocation - SZABIST University Islamabad 
DESCRIPTION: 15th Annual Convocation – SZABIST University Islamabad  \nWe are thrilled to share the joyous moments of the 15th Annual Convocation of SZABIST University Islamabad\, a truly remarkable event where the dreams and aspirations of our graduates soared to new heights! \nHeld on February 26\, 2025\, this grand occasion was a testament to the hard work\, dedication\, and academic excellence of our students\, who were awarded Bachelor’s\, Master’s\, and Doctoral degrees. \nThe proceedings commenced with the gracious presence of Executive Director of the Higher Education Commission (HEC)\, Dr. Zia Ul Qayyum\, who graced the event as the Chief Guest and inspired the graduates with his insightful address. His words encouraged students to embrace the challenges and opportunities that lie ahead with unwavering determination and vision. \nWe were also honored by the presence of Member Board of Governors\, Mr. Khursheed Ahmed Junejo\, Vice President Academics\, Prof. Dr. Muhammad Altaf Mukati\, Vice President Administration & HR\, Mr. Imtiaz Kazi\, Registrar\, Dr. Muhammad Aqeel\, and Head of Islamabad Campus\, Mr. Khusro Pervaiz Khan. Their heartfelt words of encouragement and wisdom uplifted the spirit of the graduates\, igniting in them a renewed passion to contribute positively to society. \n Amidst an atmosphere of pride and accomplishment\, the high achievers of SZABIST University Islamabad were honored with prestigious academic medals\, symbolizing their relentless pursuit of excellence. With heads held high\, our graduates solemnly took the oath\, pledging to uphold the values of integrity\, leadership\, and compassion in all their future endeavors. \nAs the curtains drew to a close on this momentous occasion\, we couldn’t help but feel an overwhelming sense of pride for our graduates. Their journey at SZABIST University Islamabad has not only been a testament to academic excellence but also a celebration of resilience\, perseverance\, and unwavering dedication. \n  \n 
URL:https://szabist-isb.edu.pk/events-calendar/15th-annual-convocation-szabist-university-islamabad/
CATEGORIES:Convocation,SZABIST Events
ATTACH;FMTTYPE=image/png:https://szabist-isb.edu.pk/wp-content/uploads/2025/03/4.png
END:VEVENT
END:VCALENDAR