BEGIN:VCALENDAR
VERSION:2.0
PRODID:-//SZABIST University Islamabad - ECPv5.12.2//NONSGML v1.0//EN
CALSCALE:GREGORIAN
METHOD:PUBLISH
X-WR-CALNAME:SZABIST University Islamabad
X-ORIGINAL-URL:https://szabist-isb.edu.pk
X-WR-CALDESC:Events for SZABIST University Islamabad
REFRESH-INTERVAL;VALUE=DURATION:PT1H
X-Robots-Tag:noindex
X-PUBLISHED-TTL:PT1H
BEGIN:VTIMEZONE
TZID:Asia/Karachi
BEGIN:STANDARD
TZOFFSETFROM:+0500
TZOFFSETTO:+0500
TZNAME:PKT
DTSTART:20240101T000000
END:STANDARD
END:VTIMEZONE
BEGIN:VEVENT
DTSTART;VALUE=DATE:20240909
DTEND;VALUE=DATE:20240910
DTSTAMP:20260424T012441
CREATED:20240909T130232Z
LAST-MODIFIED:20240909T130334Z
UID:26303-1725840000-1725926399@szabist-isb.edu.pk
SUMMARY:JS-Zindigi Startup Competition - Islamabad Region 2024
DESCRIPTION:JS-Zindigi Startup Competition – Islamabad Region 2024 \nWe are thrilled to announce that our faculty member\, Shahid Jahangir Raja\, served as the main trainer and judge for the JS-Zindigi Startup Competition – Islamabad Region. The event took place at the Institute of Space Technology (IST) Islamabad from 6th to 8th September 2024. \nThis included a special training session on the topic\, “Mastering the Art of WINNING Pitch for Startup\,” where he guided startups in refining their pitches and evaluated the competing startups at the JS Zindagi Startup Competition. \nThis recognition highlights the significant contributions of our faculty to the Entrepreneurial Ecosystem\, particularly in nurturing startups. Our faculty’s involvement in such prestigious events\, reflects the strong support and commitment of the SZABIST University Islamabad’s top management\, who are dedicated to fostering entrepreneurship and encouraging both students and faculty to excel and represent the institution on various platforms. \n\n 
URL:https://szabist-isb.edu.pk/events-calendar/js-zindigi-startup-competition-islamabad-region-2024/
CATEGORIES:Sessions,Summer 2024,SZABIST Events
ATTACH;FMTTYPE=image/jpeg:https://szabist-isb.edu.pk/wp-content/uploads/2024/09/7-1-scaled.jpg
END:VEVENT
END:VCALENDAR