BEGIN:VCALENDAR
VERSION:2.0
PRODID:-//SZABIST University Islamabad - ECPv5.12.2//NONSGML v1.0//EN
CALSCALE:GREGORIAN
METHOD:PUBLISH
X-WR-CALNAME:SZABIST University Islamabad
X-ORIGINAL-URL:https://szabist-isb.edu.pk
X-WR-CALDESC:Events for SZABIST University Islamabad
REFRESH-INTERVAL;VALUE=DURATION:PT1H
X-Robots-Tag:noindex
X-PUBLISHED-TTL:PT1H
BEGIN:VTIMEZONE
TZID:Asia/Karachi
BEGIN:STANDARD
TZOFFSETFROM:+0500
TZOFFSETTO:+0500
TZNAME:PKT
DTSTART:20240101T000000
END:STANDARD
END:VTIMEZONE
BEGIN:VEVENT
DTSTART;VALUE=DATE:20240815
DTEND;VALUE=DATE:20240816
DTSTAMP:20260424T011910
CREATED:20240815T093204Z
LAST-MODIFIED:20240903T102354Z
UID:26082-1723680000-1723766399@szabist-isb.edu.pk
SUMMARY:The Use of Machine Learning in Management Science Research
DESCRIPTION:The Use of Machine Learning in Management Science Research \nDate: August 15th\, 2024\nOrganized By: Dr. Raazia Gul\, Head\, RIG (Finance)\, Research Centre\, SZABIST University Islamabad \nObjective and Learning Outcomes \nThe objective of the workshop was to enhance faculty capabilities in applying machine learning techniques across various fields\, including Finance\, HR\, and Marketing. This training was part of the ongoing Faculty Development Workshop Series at SZABIST University Islamabad and aimed to provide participants with hands-on experience and advanced analytical skills to improve their research methodologies and decision-making processes. \nSpeaker’s Profile \nMs. Hajra Murtaza\, the expert facilitator for the workshop\, is a Senior Lecturer at Riphah International University with over 20 years of teaching experience. She specializes in machine learning and synthetic data generation\, bringing extensive knowledge and practical expertise to the workshop. \nHighlights of the Workshop \nThe workshop provided an in-depth exploration of advanced methods for analyzing and interpreting complex datasets. Participants learned to leverage these techniques to draw meaningful insights from data\, a crucial skill in today’s data-driven world. Faculty members gained valuable insights into incorporating machine learning into their research methodologies. This knowledge is expected to enhance their ability to conduct robust\, data-driven research\, ultimately improving decision-making in their respective fields. \nAudience Response \nThe workshop was well-received\, with enthusiastic participation from faculty members. The interactive format encouraged active engagement and facilitated a deeper understanding of the material. Participants appreciated the practical exercises and the opportunity to apply machine-learning techniques to their research.
URL:https://szabist-isb.edu.pk/events-calendar/the-use-of-machine-learning-in-management-science-research/
CATEGORIES:Summer 2024,SZABIST Events
ATTACH;FMTTYPE=image/jpeg:https://szabist-isb.edu.pk/wp-content/uploads/2024/08/356A8490-1.jpg
END:VEVENT
BEGIN:VEVENT
DTSTART;TZID=Asia/Karachi:20240815T000000
DTEND;TZID=Asia/Karachi:20240815T150000
DTSTAMP:20260424T011910
CREATED:20250710T114049Z
LAST-MODIFIED:20250710T114237Z
UID:29021-1723680000-1723734000@szabist-isb.edu.pk
SUMMARY:The Use of Machine Learning in Management Science Research Workshop
DESCRIPTION:On August 15th\, 2024\, a training workshop titled “The Use of Machine Learning in Management Science Research” was held at the SZABIST University Islamabad Campus\, organized by Dr. Raazia Gul\, Head of RIG (Finance) at the Research Centre. This session was part of SZABIST’s ongoing Faculty Development Workshop Series\, designed to enhance the research capabilities of faculty and staff. \nThe primary goal of the workshop was to build faculty expertise in applying machine learning techniques to academic research\, particularly within the disciplines of Finance\, Human Resources\, and Marketing. The workshop emphasized practical\, real-world applications of machine learning\, with a strong focus on hands-on learning experiences. \nParticipants worked directly with datasets to build and improve machine learning models\, gaining exposure to advanced analytical methods for interpreting complex data. In addition to understanding the theoretical frameworks\, faculty members explored how to integrate machine learning into their own research processes\, resulting in improved decision-making and evidence-based outcomes. \nThe session was expertly facilitated by Ms. Hajra Murtaza\, a professional recognized for her deep expertise in machine learning and synthetic data generation. Her guidance provided the participants with valuable insights and essential skills needed to apply these tools in a research-driven academic environment. \nThe event reflects SZABIST’s dedication to continuous faculty development and staying at the forefront of emerging technologies in academic research.
URL:https://szabist-isb.edu.pk/events-calendar/the-use-of-machine-learning-in-management-science-research-workshop/
CATEGORIES:PEDC-Event,PEDC-Summer-2025,Summer 2024,Workshop
ATTACH;FMTTYPE=image/png:https://szabist-isb.edu.pk/wp-content/uploads/2025/07/481265547_952017827044666_5950951413522459643_n.png
END:VEVENT
END:VCALENDAR