BEGIN:VCALENDAR
VERSION:2.0
PRODID:-//SZABIST University Islamabad - ECPv5.12.2//NONSGML v1.0//EN
CALSCALE:GREGORIAN
METHOD:PUBLISH
X-WR-CALNAME:SZABIST University Islamabad
X-ORIGINAL-URL:https://szabist-isb.edu.pk
X-WR-CALDESC:Events for SZABIST University Islamabad
REFRESH-INTERVAL;VALUE=DURATION:PT1H
X-Robots-Tag:noindex
X-PUBLISHED-TTL:PT1H
BEGIN:VTIMEZONE
TZID:Asia/Karachi
BEGIN:STANDARD
TZOFFSETFROM:+0500
TZOFFSETTO:+0500
TZNAME:PKT
DTSTART:20240101T000000
END:STANDARD
END:VTIMEZONE
BEGIN:VEVENT
DTSTART;TZID=Asia/Karachi:20240801T090000
DTEND;TZID=Asia/Karachi:20240801T170000
DTSTAMP:20260424T011701
CREATED:20250710T110911Z
LAST-MODIFIED:20250710T112429Z
UID:29006-1722502800-1722531600@szabist-isb.edu.pk
SUMMARY:CAPACITY BUILDING “HANDS-ON WORKSHOP” ON BUSINESS ANALYTICAL TOOLS
DESCRIPTION:On 1st August 2024\, a Power BI Workshop SZABIST Islamabad was held at the university’s Islamabad campus. Organized by the Department of Management Sciences\, this hands-on training was part of SZABIST’s ongoing Faculty Development Program and focused on equipping faculty and staff with essential business analytics skills. \nThe workshop introduced participants to Power BI\, allowing them to learn how to clean\, transform\, and visualize data through dashboards and dynamic models. The goal was to help faculty members integrate analytical tools like Power BI into teaching\, student supervision\, and academic research\, particularly in capstone projects and business data analysis. \nLed by Mr. Syed Shahwar Hussain\, a seasoned academic and industry expert with over 15 years of experience\, the session provided practical strategies grounded in real-world applications. Mr. Hussain\, a respected faculty member of the Management Sciences Department at SZABIST\, specializes in Business Analysis\, Digital Marketing\, and Social Media Strategy. \nThis Power BI Workshop at SZABIST Islamabad reflects the university’s commitment to professional growth and technological advancement in academia. \n 
URL:https://szabist-isb.edu.pk/events-calendar/capacity-building-hands-on-workshop-on-business-analytical-tools/
CATEGORIES:PEDC-Event,PEDC-Summer-2025,Summer 2024,SZABIST Events,Workshop
ATTACH;FMTTYPE=image/png:https://szabist-isb.edu.pk/wp-content/uploads/2025/07/481264295_952013643711751_3367988202537397862_n.png
END:VEVENT
END:VCALENDAR