BEGIN:VCALENDAR
VERSION:2.0
PRODID:-//SZABIST University Islamabad - ECPv5.12.2//NONSGML v1.0//EN
CALSCALE:GREGORIAN
METHOD:PUBLISH
X-WR-CALNAME:SZABIST University Islamabad
X-ORIGINAL-URL:https://szabist-isb.edu.pk
X-WR-CALDESC:Events for SZABIST University Islamabad
REFRESH-INTERVAL;VALUE=DURATION:PT1H
X-Robots-Tag:noindex
X-PUBLISHED-TTL:PT1H
BEGIN:VTIMEZONE
TZID:Asia/Karachi
BEGIN:STANDARD
TZOFFSETFROM:+0500
TZOFFSETTO:+0500
TZNAME:PKT
DTSTART:20240101T000000
END:STANDARD
END:VTIMEZONE
BEGIN:VEVENT
DTSTART;VALUE=DATE:20240725
DTEND;VALUE=DATE:20240726
DTSTAMP:20260424T044320
CREATED:20240725T075830Z
LAST-MODIFIED:20240823T083059Z
UID:24745-1721865600-1721951999@szabist-isb.edu.pk
SUMMARY:SZABIST University and S&P Global - Visit
DESCRIPTION:SZABIST University and S&P Global – Visit \nSZABIST University Islamabad is excited to share updates from our recent engagement with S&P Global \nIn line with our mission to strengthen industry connections and foster societal progress\, representatives from our Department of Management Sciences—Malik Aizaz Ahmad\, Muhammad Zahid Ahmad\, and Dr. Kashif Abrar—met with Shafqaat H. Shah\, Senior Director\, Commercial\, at S&P Global\, Pakistan on July 25\, 2024. \nThe discussion focused on opportunities for collaboration\, including the i-ARC Industry-Academia Research Consortium and other relevant activities for mutual benefit. We are enthusiastic about the promising opportunities this engagement will create for advancing both educational and professional growth. \nFor more information click here
URL:https://szabist-isb.edu.pk/events-calendar/szabist-university-and-sp-global-visit/
CATEGORIES:Summer 2024,SZABIST Events,Visits
ATTACH;FMTTYPE=image/jpeg:https://szabist-isb.edu.pk/wp-content/uploads/2024/07/WhatsApp-Image-2024-07-26-at-8.17.01-PM.jpg
END:VEVENT
END:VCALENDAR