BEGIN:VCALENDAR
VERSION:2.0
PRODID:-//SZABIST University Islamabad - ECPv5.12.2//NONSGML v1.0//EN
CALSCALE:GREGORIAN
METHOD:PUBLISH
X-WR-CALNAME:SZABIST University Islamabad
X-ORIGINAL-URL:https://szabist-isb.edu.pk
X-WR-CALDESC:Events for SZABIST University Islamabad
REFRESH-INTERVAL;VALUE=DURATION:PT1H
X-Robots-Tag:noindex
X-PUBLISHED-TTL:PT1H
BEGIN:VTIMEZONE
TZID:Asia/Karachi
BEGIN:STANDARD
TZOFFSETFROM:+0500
TZOFFSETTO:+0500
TZNAME:PKT
DTSTART:20240101T000000
END:STANDARD
END:VTIMEZONE
BEGIN:VEVENT
DTSTART;TZID=Asia/Karachi:20240710T080000
DTEND;TZID=Asia/Karachi:20240710T170000
DTSTAMP:20260424T044323
CREATED:20240710T125600Z
LAST-MODIFIED:20240823T083330Z
UID:24273-1720598400-1720630800@szabist-isb.edu.pk
SUMMARY:Workshop on Research Grant Proposal Writing
DESCRIPTION:Workshop on Research Grant Proposal Writing \nA workshop on Research Grant Proposal Writing was held on Wednesday\, 10th July 2024 at SZABIST University Islamabad. \nThe objective of workshop was to equip the Faculty of Management Sciences of SZABIST University Islamabad with the essential skills and knowledge needed to prepare successful research grant proposals. \nThe workshop trainer Dr. Tahira Awan Assistant Professor and Head of Accounting and Finance Department IIU Islamabad provided valuable insights and practical strategies to develop the grant proposal writing skills. \nThe participants showed a great interest and gained a deeper understanding of the grant writing process and learned effective techniques for crafting compelling proposals\, structuring and presenting research ideas clearly and persuasively. \nThe activity was organized by Dr. Iffat Rasool Associate Professor and Head of SIG –HRM Research Center SZABIST University Islamabad. \nFor more information click here \n 
URL:https://szabist-isb.edu.pk/events-calendar/workshop-on-research-grant-proposal-writing/
CATEGORIES:Summer 2024,SZABIST Events,Workshop
ATTACH;FMTTYPE=image/jpeg:https://szabist-isb.edu.pk/wp-content/uploads/2024/07/JL2A9948-1.jpg
END:VEVENT
END:VCALENDAR