BEGIN:VCALENDAR
VERSION:2.0
PRODID:-//SZABIST University Islamabad - ECPv5.12.2//NONSGML v1.0//EN
CALSCALE:GREGORIAN
METHOD:PUBLISH
X-WR-CALNAME:SZABIST University Islamabad
X-ORIGINAL-URL:https://szabist-isb.edu.pk
X-WR-CALDESC:Events for SZABIST University Islamabad
REFRESH-INTERVAL;VALUE=DURATION:PT1H
X-Robots-Tag:noindex
X-PUBLISHED-TTL:PT1H
BEGIN:VTIMEZONE
TZID:Asia/Karachi
BEGIN:STANDARD
TZOFFSETFROM:+0500
TZOFFSETTO:+0500
TZNAME:PKT
DTSTART:20240101T000000
END:STANDARD
END:VTIMEZONE
BEGIN:VEVENT
DTSTART;VALUE=DATE:20240703
DTEND;VALUE=DATE:20240704
DTSTAMP:20260424T044317
CREATED:20240703T090154Z
LAST-MODIFIED:20240823T084617Z
UID:24134-1719964800-1720051199@szabist-isb.edu.pk
SUMMARY:NCFYP by Ignite - Visit
DESCRIPTION:NCFYP by Ignite – Visit \nWe’re delighted to share that our Head of Department\, Professor Dr. Shazia Akhtar\, along with our distinguished faculty members\, Malik Aizaz Ahmad\, Saba Butt & Muhammad Zahid Abbas from the Department of Management Sciences\, represented SZABIST Islamabad on July 3rd 2024 at NCFYP\, organized by Ignite – National Technology Fund under the Ministry of IT. \nProfessor Dr. Shazia Akhtar played a key role as a judge and participated in an engaging panel discussion on strategies for commercialization and entrepreneurship in today’s technological landscape. The discussion provided valuable insights into the integration of innovation and practical applications within both academia and industry. \nFederal Secretary of IT\, Capt. (Retd.) Muhammad Mahmood\, graced the event \,who praised the efforts of all involved and highlighted the importance of such collaborative initiatives. The event also offered excellent networking opportunities with numerous industry professionals\, furthering our commitment to bridging the gap between industry and academia. \nA heartfelt thank you to Ignite for organizing this impactful event. We eagerly anticipate more opportunities for collaboration and innovation! \nFor more information click here  \n   
URL:https://szabist-isb.edu.pk/events-calendar/ncfyp-by-ignite-visit/
CATEGORIES:Summer 2024,SZABIST Events,Visits
ATTACH;FMTTYPE=image/jpeg:https://szabist-isb.edu.pk/wp-content/uploads/2024/07/IMG_8095-1.jpg
END:VEVENT
END:VCALENDAR