BEGIN:VCALENDAR
VERSION:2.0
PRODID:-//SZABIST University Islamabad - ECPv5.12.2//NONSGML v1.0//EN
CALSCALE:GREGORIAN
METHOD:PUBLISH
X-WR-CALNAME:SZABIST University Islamabad
X-ORIGINAL-URL:https://szabist-isb.edu.pk
X-WR-CALDESC:Events for SZABIST University Islamabad
REFRESH-INTERVAL;VALUE=DURATION:PT1H
X-Robots-Tag:noindex
X-PUBLISHED-TTL:PT1H
BEGIN:VTIMEZONE
TZID:Asia/Karachi
BEGIN:STANDARD
TZOFFSETFROM:+0500
TZOFFSETTO:+0500
TZNAME:PKT
DTSTART:20240101T000000
END:STANDARD
END:VTIMEZONE
BEGIN:VEVENT
DTSTART;VALUE=DATE:20240316
DTEND;VALUE=DATE:20240317
DTSTAMP:20260424T112556
CREATED:20240316T050230Z
LAST-MODIFIED:20240326T050623Z
UID:22346-1710547200-1710633599@szabist-isb.edu.pk
SUMMARY:  “Boost your confidence: Dive into real-world experiences''
DESCRIPTION:             “Boost your confidence: Dive into real-world experiences” \nThe Department of Management Sciences SZABIST Islamabad organized a seminar titled “Boost your confidence: Dive into real-world experiences” under the supervision of Ms. Farah Khawaja V.F and Dr. Iffat Rasool Associate Professor for the students of BBA 1 and BBA-6 B on 16th March 2024. The main objective of the seminar was to equip students from communication and HRM backgrounds with practical strategies and tools that aimed at overcoming self-doubt\, enhancing resilience\, and significantly boosting their confidence levels. \nThe guest speaker Ms. Ayesha Kamal Manager of Human Resources at Garment Printing Group Australia with wide experience of working with international organizations guided the students through real-world scenarios to step out of their comfort zones and embrace new opportunities. The response of students was highly positive and enthusiastic. Overall\, students left the seminar feeling empowered and motivated to apply the strategies learned to navigate both personal and professional challenges effectively. \n\n			\n				\n			\n			\n				\n			\n			\n				\n			\n			\n				\n			\n		\n\n 
URL:https://szabist-isb.edu.pk/events-calendar/boost-your-confidence-dive-into-real-world-experiences/
CATEGORIES:Seminar,Spring 2024,SZABIST Events
ATTACH;FMTTYPE=image/jpeg:https://szabist-isb.edu.pk/wp-content/uploads/2024/03/3-1.jpg
END:VEVENT
BEGIN:VEVENT
DTSTART;VALUE=DATE:20240316
DTEND;VALUE=DATE:20240317
DTSTAMP:20260424T112556
CREATED:20240316T100552Z
LAST-MODIFIED:20240326T100933Z
UID:22380-1710547200-1710633599@szabist-isb.edu.pk
SUMMARY:'Exploring Economic Policy Growth and Career Paths in Industry'
DESCRIPTION:‘Exploring Economic Policy Growth and Career Paths in Industry’\n\n\n\nA dynamic seminar titled ‘Exploring Economic Policy Growth and Career Paths in Industry’ was held on March 16th\, 2024\, specifically tailored for students of Pakistan Economy within the BBA Program. The session featured esteemed guest speaker Mr. Adeel Anwar\, President and Founder of PHCF (Pakistan Human Capital Forum). Mr. Anwar’s expertise in executive mentoring\, and organizational development contributes significantly to Pakistan’s economy. Through advocacy and policy influence\, he shapes favorable environments for sustainable development. In essence\, Mr. Anwar’s multifaceted contributions make him a vital architect of Pakistan’s economic advancement.\n\n\n\nUnder the expert guidance of Mrs. Asma Javed\, the session was meticulously organized to foster an interactive and enlightening experience for all attendees. Participants had the unique opportunity to delve into the intricacies of industrial policy growth and gain firsthand knowledge from Mr. Anwar’s extensive expertise.
URL:https://szabist-isb.edu.pk/events-calendar/exploring-economic-policy-growth-and-career-paths-in-industry/
CATEGORIES:Seminar,Spring 2024,SZABIST Events
ATTACH;FMTTYPE=image/jpeg:https://szabist-isb.edu.pk/wp-content/uploads/2024/03/IMG-20240318-WA0037.jpg
END:VEVENT
END:VCALENDAR