BEGIN:VCALENDAR
VERSION:2.0
PRODID:-//SZABIST University Islamabad - ECPv5.12.2//NONSGML v1.0//EN
CALSCALE:GREGORIAN
METHOD:PUBLISH
X-WR-CALNAME:SZABIST University Islamabad
X-ORIGINAL-URL:https://szabist-isb.edu.pk
X-WR-CALDESC:Events for SZABIST University Islamabad
REFRESH-INTERVAL;VALUE=DURATION:PT1H
X-Robots-Tag:noindex
X-PUBLISHED-TTL:PT1H
BEGIN:VTIMEZONE
TZID:Asia/Karachi
BEGIN:STANDARD
TZOFFSETFROM:+0500
TZOFFSETTO:+0500
TZNAME:PKT
DTSTART:20240101T000000
END:STANDARD
END:VTIMEZONE
BEGIN:VEVENT
DTSTART;VALUE=DATE:20240122
DTEND;VALUE=DATE:20240123
DTSTAMP:20260424T145209
CREATED:20240120T083610Z
LAST-MODIFIED:20240129T084140Z
UID:21525-1705881600-1705967999@szabist-isb.edu.pk
SUMMARY:Recap of the PhD Management Sciences Online Panel Discussion at SZABIST University Islamabad - January 20\, 2024
DESCRIPTION:Recap of the PhD Management Sciences Online Panel Discussion at SZABIST University Islamabad – January 20\, 2024\n\n\n\nOn January 20\, 2024\, SZABIST University Islamabad hosted an insightful panel discussion on the PhD Management Sciences Program. Moderated by Professor Dr. Shazia Akhtar\, Head of the Department of Management Sciences\, Professor Dr. Muhammad Asif Khan\, Associate Dean of Management Sciences\, and Dr. Saqib\, an expert in Business Analytics.\n\n\n\nThe discussion covered admission pathways\, highlighting flexibility with options for the university’s internal test or the Graduate Assessment Test (GAT). Various specializations\, such as Project Management\, Business Analytics\, Supply Chain\, Marketing\, Finance\, and HRM\, showcased the program to diverse academic and professional aspirations.\n\n\n\nEmphasizing academic excellence\, the faculty’s high qualifications and HEC-approved supervisors in each specialization were highlighted. Financial aid availability demonstrated SZABIST’s dedication to inclusivity. The unique feature of allowing students to choose a supervisor and research topic before formal enrollment showcased the university’s commitment to individual academic pursuits.\n\n\n\nThe live broadcast on SZABIST’s official social media channels facilitated interactive engagement with students posing thoughtful questions. This real-time exchange enhanced the session’s dynamism and provided valuable insights for prospective students.\n\n\n\nIn summary\, it provided a comprehensive overview of the PhD Management Sciences Program\, emphasizing academic excellence\, and individualized learning experiences. The commitment to fostering a supportive and enriching educational environment was evident throughout the session.\n\n\n\nWatch the video here: https://www.facebook.com/SZABIST.Islamabad.Official/videos/1117007709475008
URL:https://szabist-isb.edu.pk/events-calendar/recap-of-the-phd-management-sciences-online-panel-discussion-at-szabist-university-islamabad-january-20-2024/
CATEGORIES:Fall 2023,SZABIST Events,Webinar
ATTACH;FMTTYPE=image/jpeg:https://szabist-isb.edu.pk/wp-content/uploads/2024/01/356A8782-1.jpg
END:VEVENT
END:VCALENDAR