BEGIN:VCALENDAR
VERSION:2.0
PRODID:-//SZABIST University Islamabad - ECPv5.12.2//NONSGML v1.0//EN
CALSCALE:GREGORIAN
METHOD:PUBLISH
X-WR-CALNAME:SZABIST University Islamabad
X-ORIGINAL-URL:https://szabist-isb.edu.pk
X-WR-CALDESC:Events for SZABIST University Islamabad
REFRESH-INTERVAL;VALUE=DURATION:PT1H
X-Robots-Tag:noindex
X-PUBLISHED-TTL:PT1H
BEGIN:VTIMEZONE
TZID:Asia/Karachi
BEGIN:STANDARD
TZOFFSETFROM:+0500
TZOFFSETTO:+0500
TZNAME:PKT
DTSTART:20230101T000000
END:STANDARD
END:VTIMEZONE
BEGIN:VEVENT
DTSTART;VALUE=DATE:20231121
DTEND;VALUE=DATE:20231122
DTSTAMP:20260424T200435
CREATED:20231121T132144Z
LAST-MODIFIED:20250308T092136Z
UID:19405-1700524800-1700611199@szabist-isb.edu.pk
SUMMARY:SZABIST - GDSC representation on event "Google for Education"
DESCRIPTION:Ameer Moavia\, the Lead of the Google Developers Student Club\, and Aeyza Zaheer\, the Co-Lead\, had the privilege of extending a warm welcome to Chris Betcher\, Program Manager at Google for Education\, during a hosted event on November 7th\, 2023. The event provided an insightful platform to deliberate upon the profound impact Google products can have on society\, sparking a discussion that delved into the transformative potential of these tools. \nMeet the GDSC Team in SZABIST-BIC.\n@gdscszabist_isb  #gdscszabist
URL:https://szabist-isb.edu.pk/events-calendar/szabist-gdsc-representation-on-event-google-for-education/
CATEGORIES:Fall 2023,SZABIST Events
ATTACH;FMTTYPE=image/jpeg:https://szabist-isb.edu.pk/wp-content/uploads/2023/11/WhatsApp-Image-2023-11-08-at-2.32.34-AM-scaled.jpeg
END:VEVENT
END:VCALENDAR