BEGIN:VCALENDAR
VERSION:2.0
PRODID:-//SZABIST University Islamabad - ECPv5.12.2//NONSGML v1.0//EN
CALSCALE:GREGORIAN
METHOD:PUBLISH
X-WR-CALNAME:SZABIST University Islamabad
X-ORIGINAL-URL:https://szabist-isb.edu.pk
X-WR-CALDESC:Events for SZABIST University Islamabad
REFRESH-INTERVAL;VALUE=DURATION:PT1H
X-Robots-Tag:noindex
X-PUBLISHED-TTL:PT1H
BEGIN:VTIMEZONE
TZID:Asia/Karachi
BEGIN:STANDARD
TZOFFSETFROM:+0500
TZOFFSETTO:+0500
TZNAME:PKT
DTSTART:20230101T000000
END:STANDARD
END:VTIMEZONE
BEGIN:VEVENT
DTSTART;VALUE=DATE:20231017
DTEND;VALUE=DATE:20231018
DTSTAMP:20260424T214507
CREATED:20231117T103831Z
LAST-MODIFIED:20231214T104129Z
UID:20610-1697500800-1697587199@szabist-isb.edu.pk
SUMMARY:Environment Leadership Forum
DESCRIPTION:The Stand for Peace Trust organized a workshop for students enrolled in the BS Social Sciences program\, under the supervision of Ms. Sana Mukhtar (Program Manager – BSSS). This workshop is a component of the Environment Leadership Forum (ELF) project\, currently being implemented by the Stand for Peace Trust (SFP) in collaboration with the US Embassy in Pakistan. The primary objective of the project is to raise awareness among youth regarding environmental issues\, challenges\, and the active role that civil society can play in preserving the environment.\nThe key focus of the event was to promote tree plantation and environmental protection among the youth. Additionally\, students were encouraged to become activists for climate change issues. The workshop serves as a platform to inspire environmental leadership and instill a sense of responsibility for the well-being of our planet among the younger generation.
URL:https://szabist-isb.edu.pk/events-calendar/environment-leadership-forum/
CATEGORIES:00 - Event Categories,Social Activities
ATTACH;FMTTYPE=image/jpeg:https://szabist-isb.edu.pk/wp-content/uploads/2023/12/JL2A9791-scaled.jpg
END:VEVENT
END:VCALENDAR