BEGIN:VCALENDAR
VERSION:2.0
PRODID:-//SZABIST University Islamabad - ECPv5.12.2//NONSGML v1.0//EN
CALSCALE:GREGORIAN
METHOD:PUBLISH
X-WR-CALNAME:SZABIST University Islamabad
X-ORIGINAL-URL:https://szabist-isb.edu.pk
X-WR-CALDESC:Events for SZABIST University Islamabad
REFRESH-INTERVAL;VALUE=DURATION:PT1H
X-Robots-Tag:noindex
X-PUBLISHED-TTL:PT1H
BEGIN:VTIMEZONE
TZID:Asia/Karachi
BEGIN:STANDARD
TZOFFSETFROM:+0500
TZOFFSETTO:+0500
TZNAME:PKT
DTSTART:20230101T000000
END:STANDARD
END:VTIMEZONE
BEGIN:VEVENT
DTSTART;VALUE=DATE:20231016
DTEND;VALUE=DATE:20231017
DTSTAMP:20260424T214527
CREATED:20231016T072905Z
LAST-MODIFIED:20240314T054318Z
UID:21971-1697414400-1697500799@szabist-isb.edu.pk
SUMMARY:Breast Cancer Awareness Session
DESCRIPTION:Breast Cancer Awareness Session\n\n\n\nBreast cancer is a significant health issue worldwide and cases of this disease are increasing in Pakistan due to negligence\, lack of awareness\, and education. Showing great concern about this serious health issue in the community\, the SZABIST University Islamabad organized the breast cancer awareness session in collaboration with Shaukat Khanum Memorial Cancer Hospital and Research Centre (SKMCH&RC for faculty\, staff\, and students on Tuesday\, 10th October 2023. The objectives of the session were to raise awareness among the community about breast cancer and to foster a culture of empathy and support for the individuals suffering from this disease.\n\n\n\nThe guest speaker Dr. Talia Safaq senior medical officer at THQ City Hospital Tlagang shared her experience\, insight\, and knowledge to fight against the disease. The speaker also provided a platform for open discussion and question-and-answer sessions to the audience.\n\n\n\nProfessor Dr. Shazia Akhtar the Head of Department of Management Sciences concluded the session with her remarks and appreciation for raising awareness for the serious health issue and conducting the successful session. The session was organized by Dr. Iffat Rasool Associate Professor Department of Management Sciences and Head of Social Responsibility Society at SZABIST University Islamabad.
URL:https://szabist-isb.edu.pk/events-calendar/breast-cancer-awareness-session/
CATEGORIES:Semester Activities,Sessions,Spring 2023,SZABIST Events
ATTACH;FMTTYPE=image/jpeg:https://szabist-isb.edu.pk/wp-content/uploads/2024/03/387847780_643160821263703_2540794256511791777_n.jpg
END:VEVENT
END:VCALENDAR