BEGIN:VCALENDAR
VERSION:2.0
PRODID:-//SZABIST University Islamabad - ECPv5.12.2//NONSGML v1.0//EN
CALSCALE:GREGORIAN
METHOD:PUBLISH
X-WR-CALNAME:SZABIST University Islamabad
X-ORIGINAL-URL:https://szabist-isb.edu.pk
X-WR-CALDESC:Events for SZABIST University Islamabad
REFRESH-INTERVAL;VALUE=DURATION:PT1H
X-Robots-Tag:noindex
X-PUBLISHED-TTL:PT1H
BEGIN:VTIMEZONE
TZID:Asia/Karachi
BEGIN:STANDARD
TZOFFSETFROM:+0500
TZOFFSETTO:+0500
TZNAME:PKT
DTSTART:20230101T000000
END:STANDARD
END:VTIMEZONE
BEGIN:VEVENT
DTSTART;TZID=Asia/Karachi:20231005T080000
DTEND;TZID=Asia/Karachi:20231005T170000
DTSTAMP:20260424T214529
CREATED:20231005T113819Z
LAST-MODIFIED:20231124T080424Z
UID:19543-1696492800-1696525200@szabist-isb.edu.pk
SUMMARY:International Teacher Day
DESCRIPTION:International Teacher Day was commemorated at SZABIST University Islamabad\, organized by EDC SZABIST in collaboration with the Punjab Education Foundation (PEF). The event witnessed the enthusiastic participation of schools from the Rawalpindi district affiliated with PEF. Students paid tribute to their teachers through heartfelt tableaus and captivating performances.\nThe event was graced by the presence of Mr. Khusro Pervaiz Khan\, Head of Campus SZABIST University Islamabad who served as the chief guest. In his address to the gathered audience\, he eloquently emphasized the indispensable role teachers play in shaping our society. He shared his visionary insights on how teachers profoundly influence students in their career choices and personal growth.\nNaveed Abbas\, the Regional Director (PEF)\, conveyed his heartfelt appreciation for teachers\, emphasizing that they are the true assets of our society.
URL:https://szabist-isb.edu.pk/events-calendar/international-teacher-day-october-5-2023/
CATEGORIES:Fall 2023,Social Activities,SZABIST Events
ATTACH;FMTTYPE=image/jpeg:https://szabist-isb.edu.pk/wp-content/uploads/2023/11/JL2A9974-scaled.jpg
END:VEVENT
END:VCALENDAR