BEGIN:VCALENDAR
VERSION:2.0
PRODID:-//SZABIST University Islamabad - ECPv5.12.2//NONSGML v1.0//EN
CALSCALE:GREGORIAN
METHOD:PUBLISH
X-WR-CALNAME:SZABIST University Islamabad
X-ORIGINAL-URL:https://szabist-isb.edu.pk
X-WR-CALDESC:Events for SZABIST University Islamabad
REFRESH-INTERVAL;VALUE=DURATION:PT1H
X-Robots-Tag:noindex
X-PUBLISHED-TTL:PT1H
BEGIN:VTIMEZONE
TZID:Asia/Karachi
BEGIN:STANDARD
TZOFFSETFROM:+0500
TZOFFSETTO:+0500
TZNAME:PKT
DTSTART:20230101T000000
END:STANDARD
END:VTIMEZONE
BEGIN:VEVENT
DTSTART;VALUE=DATE:20230830
DTEND;VALUE=DATE:20230831
DTSTAMP:20260425T010822
CREATED:20230830T065345Z
LAST-MODIFIED:20230831T070130Z
UID:18786-1693353600-1693439999@szabist-isb.edu.pk
SUMMARY:Meeting Corporate Advisory Board (CAB): Fostering Synergy between Academia and Industry
DESCRIPTION:Meeting Corporate Advisory Board (CAB): Fostering Synergy between Academia and Industry\n\n\n \n\n\nThe seventh Meeting of Corporate Advisory Board (CAB) of Department of Management Sciences SZABIST University Islamabad was held on August 29\, 2023. The session marked a significant convergence of academia Head of Department of Management Sciences Professor Dr Shazia Akhtar; Program Managers and Manager EDC and experts from government bodies\, the telecom sector\, visionary entrepreneurs\, as Mr. Naveed Anjum Dtroctor AWC Wah;Mr Ali Arslan Zaki Director Marketing & Real Estate Sector;Mr. Fahad zafar GM Nayatel; Danish Mr.Sultan Director HR Kohistan Group;Mr. Asim Raza Program Manager of Institute of Rural Management; Mr. Tahir Iqbak Director HR Mari Petroleum ; Dr. Farhan Aslam Deputy Director EST Division GOP;Ms Farwa Malik Associate PMO EY Consulting ; Mr. Ahmed Nadeem Assistant Manager Brand Activation Telenor Pakistan.\n\n\n \n\n\n The session was characterized by dynamic array of discussions encompassing transformation in the nature of work; new program and expertise; industry challenges along with role of AI at workplace; bridging Skills Gap and Academia–Industry Collaboration. The collective dialogue emphasized the need to align education with industry demands and enhance the skills and preparedness of students for the ever-changing professional landscape through embedment of Coursera in curriculum; involving industry experts in advising and counseling of students and continuous involvement of HR experts for crafting CV writing and mastering interview techniques.\n\n\n 
URL:https://szabist-isb.edu.pk/events-calendar/meeting-corporate-advisory-board-cab-fostering-synergy-between-academia-and-industry/
CATEGORIES:Sessions,SZABIST Events
ATTACH;FMTTYPE=image/jpeg:https://szabist-isb.edu.pk/wp-content/uploads/2023/08/4-17-1.jpg
END:VEVENT
END:VCALENDAR