BEGIN:VCALENDAR
VERSION:2.0
PRODID:-//SZABIST University Islamabad - ECPv5.12.2//NONSGML v1.0//EN
CALSCALE:GREGORIAN
METHOD:PUBLISH
X-WR-CALNAME:SZABIST University Islamabad
X-ORIGINAL-URL:https://szabist-isb.edu.pk
X-WR-CALDESC:Events for SZABIST University Islamabad
REFRESH-INTERVAL;VALUE=DURATION:PT1H
X-Robots-Tag:noindex
X-PUBLISHED-TTL:PT1H
BEGIN:VTIMEZONE
TZID:Asia/Karachi
BEGIN:STANDARD
TZOFFSETFROM:+0500
TZOFFSETTO:+0500
TZNAME:PKT
DTSTART:20230101T000000
END:STANDARD
END:VTIMEZONE
BEGIN:VEVENT
DTSTART;VALUE=DATE:20230817
DTEND;VALUE=DATE:20230818
DTSTAMP:20260425T010753
CREATED:20230817T045305Z
LAST-MODIFIED:20230828T092138Z
UID:18732-1692230400-1692316799@szabist-isb.edu.pk
SUMMARY:SZABIST University\, Islamabad and Pakistan Red Crescent (PRCS) Collaborate for Community Welfare
DESCRIPTION:SZABIST University\, Islamabad\, and Pakistan Red Crescent (PRCS) Collaborate for Community Welfare\n\n\n\nOn August 17\, 2023\, SZABIST University\, Islamabad\, and Pakistan Red Crescent (PRCS) joined hands in a strategic partnership aimed at mutual growth and community betterment. Mr. Khusro Pervaiz Khan\, Head of Campus \, emphasized how the MoU holds immense importance as it intertwines education with practical humanitarian efforts. Mr. Khan also stated that through this collaboration\, SZABIST University Islamabad is instilling in their students the values of social responsibility and community service. Dr. Shazia Akhtar\, Head of Department (HoD) Management Sciences\, focused on enhancing knowledge exchange\, volunteerism\, and community development. She further deliberated that SZABIST University will host PRCS personnel for training sessions\, seminars\, and conferences. Students will work as volunteers and Brand Ambassadors to raise awareness about PRCS initiatives. The MoU\, a milestone collaboration between SZABIST University and PRCS\, is a significant step in bridging the realms of education and humanitarian service.
URL:https://szabist-isb.edu.pk/events-calendar/szabist-university-islamabad-and-pakistan-red-crescent-prcs-collaborate-for-community-welfare/
CATEGORIES:MoU Signing Ceremony,SZABIST Events
ATTACH;FMTTYPE=image/jpeg:https://szabist-isb.edu.pk/wp-content/uploads/2023/08/366334646_615259630720489_4947260051319899238_n.jpg
END:VEVENT
BEGIN:VEVENT
DTSTART;VALUE=DATE:20230817
DTEND;VALUE=DATE:20230818
DTSTAMP:20260425T010753
CREATED:20230817T071850Z
LAST-MODIFIED:20230818T073524Z
UID:18659-1692230400-1692316799@szabist-isb.edu.pk
SUMMARY:Open House 2023 - Event Highlights
DESCRIPTION:Open House 2023 – Event Highlights\n\n\n\nWhat an incredible day it was at the SZABIST University – Islamabad campus on August 16th\, 2023\, for our Admissions Fall 2023 Open House!\n\n\n\nFrom enthusiastic high school graduates to aspiring transfer students\, the campus was abuzz with excitement as attendees explored the countless opportunities that await them at SZABIST.\n\n\n\nOur visitors gained invaluable insights into our diverse range of Undergraduate and Graduate programs. They had the chance to envision their educational journey and find the perfect path to their dreams.\nMeeting our esteemed faculty members was a highlight of the day.\n\n\n\nThe vibrant student life at SZABIST was on full display as visitors learned about diverse clubs\, societies\, and activities that make campus life engaging and lively. Connecting with successful alumni shed light on the real-world impact of education at SZABIST University on their careers\, inspiring attendees to dream big and achieve even bigger.\n\n\n\nAlso\, insights into scholarships\, grants\, and financial aid options were provided\, ensuring that student has the opportunity to pursue their academic journey without financial constraints.\n\n\nVarious workshops werearranged which provided a platform for individuals to explore diverse subjects\, fostering personal growth and professional development.\n\n\n\nThe event reached its zenith with an insightful and profound session by Tuaha Ibn Jalil. The interactive discourse on the Purpose of Life etched an indelible mark on every attendee\, nurturing contemplation and self-discovery.
URL:https://szabist-isb.edu.pk/events-calendar/open-house-2023-event-highlights/
CATEGORIES:Miscellaneous,SZABIST Events
ATTACH;FMTTYPE=image/jpeg:https://szabist-isb.edu.pk/wp-content/uploads/2023/08/368020872_614864167426702_8753082826076277941_n.jpg
END:VEVENT
END:VCALENDAR