BEGIN:VCALENDAR
VERSION:2.0
PRODID:-//SZABIST University Islamabad - ECPv5.12.2//NONSGML v1.0//EN
CALSCALE:GREGORIAN
METHOD:PUBLISH
X-WR-CALNAME:SZABIST University Islamabad
X-ORIGINAL-URL:https://szabist-isb.edu.pk
X-WR-CALDESC:Events for SZABIST University Islamabad
REFRESH-INTERVAL;VALUE=DURATION:PT1H
X-Robots-Tag:noindex
X-PUBLISHED-TTL:PT1H
BEGIN:VTIMEZONE
TZID:Asia/Karachi
BEGIN:STANDARD
TZOFFSETFROM:+0500
TZOFFSETTO:+0500
TZNAME:PKT
DTSTART:20230101T000000
END:STANDARD
END:VTIMEZONE
BEGIN:VEVENT
DTSTART;VALUE=DATE:20230810
DTEND;VALUE=DATE:20230811
DTSTAMP:20260425T010820
CREATED:20230809T212309Z
LAST-MODIFIED:20230828T092705Z
UID:18742-1691625600-1691711999@szabist-isb.edu.pk
SUMMARY:SZABIST University - Recreational Trip\, 2023
DESCRIPTION:SZABIST University – Recreational Trip\, 2023\n\n\n\nIn the hustle and bustle of academia\, a breath of fresh air is sometimes all we need to rejuvenate our spirits. SZABIST University’s Management Sciences department organized a rejuvenating trip on August 10\, 2023\, to Murree\, Ayubia\, and Nathia Gali. This outing combined relaxation\, camaraderie\, and natural beauty. The journey\, joined by faculty\, staff\, Social Sciences members\, Director Ms. Waheeda Mahesar\, and the SZABIST Karachi team\, offered breathtaking landscapes and memorable moments. Departing from the campus\, the group embraced mountain allure\, fostering stronger bonds within the SZABIST community. An informal mingling of faculty\, staff\, and colleagues transcended departmental boundaries\, creating lasting friendships.
URL:https://szabist-isb.edu.pk/events-calendar/szabist-university-recreational-trip-2023/
CATEGORIES:Miscellaneous,SZABIST Events
ATTACH;FMTTYPE=image/jpeg:https://szabist-isb.edu.pk/wp-content/uploads/2023/08/2-14.jpeg
END:VEVENT
BEGIN:VEVENT
DTSTART;VALUE=DATE:20230810
DTEND;VALUE=DATE:20230811
DTSTAMP:20260425T010820
CREATED:20230810T081448Z
LAST-MODIFIED:20230821T082220Z
UID:18693-1691625600-1691711999@szabist-isb.edu.pk
SUMMARY:A series of workshops\, starting with "Role Diversity of Faculty for Innovation"
DESCRIPTION:A series of workshops\, starting with “Role Diversity of Faculty for Innovation”\n\n\n \n\n\nSZABIST University’s Department of Management Sciences is promoting innovation through a series of workshops\, starting with “Role Diversity of Faculty for Innovation” on August 9\, 2023\, in Islamabad. The workshops aim to empower faculty with advanced skills and contemporary knowledge in management\, fostering a culture of excellence. The inaugural workshop focused on the faculty’s role in driving innovation\, encouraging diverse approaches for a dynamic learning environment. Guest speaker Dr. Hina Shahab\, HOD at NUML University\, emphasized multidisciplinary education\, adapting roles beyond tradition for an innovative culture. This initiative showcases SZABIST’s commitment to preparing students for a rapidly changing world and shaping the future of education globally.\n\n\n \n\n\n 
URL:https://szabist-isb.edu.pk/events-calendar/a-series-of-workshops-starting-with-role-diversity-of-faculty-for-innovation/
CATEGORIES:SZABIST Events,Workshop
ATTACH;FMTTYPE=image/jpeg:https://szabist-isb.edu.pk/wp-content/uploads/2023/08/356A7139-1.jpg
END:VEVENT
END:VCALENDAR