BEGIN:VCALENDAR
VERSION:2.0
PRODID:-//SZABIST University Islamabad - ECPv5.12.2//NONSGML v1.0//EN
CALSCALE:GREGORIAN
METHOD:PUBLISH
X-WR-CALNAME:SZABIST University Islamabad
X-ORIGINAL-URL:https://szabist-isb.edu.pk
X-WR-CALDESC:Events for SZABIST University Islamabad
REFRESH-INTERVAL;VALUE=DURATION:PT1H
X-Robots-Tag:noindex
X-PUBLISHED-TTL:PT1H
BEGIN:VTIMEZONE
TZID:Asia/Karachi
BEGIN:STANDARD
TZOFFSETFROM:+0500
TZOFFSETTO:+0500
TZNAME:PKT
DTSTART:20230101T000000
END:STANDARD
END:VTIMEZONE
BEGIN:VEVENT
DTSTART;VALUE=DATE:20230807
DTEND;VALUE=DATE:20230808
DTSTAMP:20260425T010822
CREATED:20230807T092733Z
LAST-MODIFIED:20230828T093815Z
UID:18753-1691366400-1691452799@szabist-isb.edu.pk
SUMMARY:The Mango Party at SZABIST Islamabad
DESCRIPTION:The Mango Party\n\n\n\nAn event that brings together mango enthusiasts. The Head of the Department of Management Sciences organized a Mango Party to foster team spirit\, relaxation\, and creativity among the faculty and all the other departments. The Mango Party was a way to celebrate the diverse flavors and cultural significance of mangoes. The underlying concept of the Mango Party revolves around fostering a sense of community among attendees. The air filled with the sweet aroma of ripe mangoes\, and the ambiance is enhanced with lively music\, echoing the spirit of celebration. Attendees relish a variety of mango-infused delicacies of Mangoes and Mango Lassi. #ChaudaryRoyalMangofarms sponsored the events with delicious Royal White Chanusa. The Mango Party fosters a sense of fellowship by bringing together faculty and staff members who share a common love for mangoes.
URL:https://szabist-isb.edu.pk/events-calendar/the-mango-party-at-szabist-islamabad/
CATEGORIES:Life at Campus,SZABIST Events
ATTACH;FMTTYPE=image/jpeg:https://szabist-isb.edu.pk/wp-content/uploads/2023/08/356A6151-1.jpg
END:VEVENT
END:VCALENDAR