BEGIN:VCALENDAR
VERSION:2.0
PRODID:-//SZABIST University Islamabad - ECPv5.12.2//NONSGML v1.0//EN
CALSCALE:GREGORIAN
METHOD:PUBLISH
X-WR-CALNAME:SZABIST University Islamabad
X-ORIGINAL-URL:https://szabist-isb.edu.pk
X-WR-CALDESC:Events for SZABIST University Islamabad
REFRESH-INTERVAL;VALUE=DURATION:PT1H
X-Robots-Tag:noindex
X-PUBLISHED-TTL:PT1H
BEGIN:VTIMEZONE
TZID:Asia/Karachi
BEGIN:STANDARD
TZOFFSETFROM:+0500
TZOFFSETTO:+0500
TZNAME:PKT
DTSTART:20230101T000000
END:STANDARD
END:VTIMEZONE
BEGIN:VEVENT
DTSTART;VALUE=DATE:20230522
DTEND;VALUE=DATE:20230523
DTSTAMP:20260425T062007
CREATED:20230522T054146Z
LAST-MODIFIED:20230727T081601Z
UID:18531-1684713600-1684799999@szabist-isb.edu.pk
SUMMARY:Mock Interviews
DESCRIPTION:Mock Interviews \n  \nThe mock interviews session was organized for BBA and MBA-evening programs on 22nd May\, 2023. Dr Samina Karim (Manager organization development-Mobilink Microfinance Bank) was the guess speaker. She guided the students with her diverse experience.
URL:https://szabist-isb.edu.pk/events-calendar/mock-interviews/
CATEGORIES:Sessions,Spring 2023,SZABIST Events
ATTACH;FMTTYPE=image/jpeg:https://szabist-isb.edu.pk/wp-content/uploads/2023/07/image-2-scaled.jpg
END:VEVENT
BEGIN:VEVENT
DTSTART;VALUE=DATE:20230522
DTEND;VALUE=DATE:20230523
DTSTAMP:20260425T062007
CREATED:20230522T092011Z
LAST-MODIFIED:20230522T121547Z
UID:17243-1684713600-1684799999@szabist-isb.edu.pk
SUMMARY:Professional Development Week
DESCRIPTION:Professional Development Week\n\n\n\nProfessional development programs are considered a prerequisite for the dynamic acquisition of skills\, knowledge\, and mindset for graduating students. Also\, to realize their strengths and potential before entering into their professional life. The main objective of these professional development programs is to bring together experts from industry and skill specialists to help the graduating students in achieving their future goals. Considering the importance of professional development for the future success of graduating students of BBA and MBA\, the Department of Management Sciences SZABIST Islamabad arranged the professional development training week from 2nd May 2023 to 6th May 2023. The objective was to develop an Entrepreneurial Mindset; Workplace Ethics and Communication; Professional Behavior & Ethics; Emotional Intelligent; CV writing and Mock Interviews. Dr. Iffat Rasool Associate Professor in collaboration with EDC organized the event.\n\n\n                             \n\n                                                                                                                 
URL:https://szabist-isb.edu.pk/events-calendar/professional-development-week/
CATEGORIES:Seminar,Spring 2023,SZABIST Events
ATTACH;FMTTYPE=image/jpeg:https://szabist-isb.edu.pk/wp-content/uploads/2023/05/348441156_996278661745026_2180277767679530575_n.jpg
END:VEVENT
BEGIN:VEVENT
DTSTART;VALUE=DATE:20230522
DTEND;VALUE=DATE:20230523
DTSTAMP:20260425T062007
CREATED:20230522T114624Z
LAST-MODIFIED:20230522T114624Z
UID:17258-1684713600-1684799999@szabist-isb.edu.pk
SUMMARY:Workshop on SPSS (Statistical Package for the Social Sciences)
DESCRIPTION:Workshop on SPSS (Statistical Package for the Social Sciences) \n  \nAn engaging and informative workshop on SPSS conducted by Dr. Hassan Raza\, with enthusiastic participation from MBA students. The workshop aimed to enhance the students’ data analysis skills and provide them with a comprehensive understanding of SPSS. The topics covered in the workshop included univariate analysis\, bivariate analysis\, multivariate analysis methodology i.e. regression analysis. \n 
URL:https://szabist-isb.edu.pk/events-calendar/workshop-on-spss-statistical-package-for-the-social-sciences/
CATEGORIES:Spring 2023,SZABIST Events,Workshop
ATTACH;FMTTYPE=image/jpeg:https://szabist-isb.edu.pk/wp-content/uploads/2023/05/348447658_1192597604693794_6432097461576282828_n.jpg
END:VEVENT
BEGIN:VEVENT
DTSTART;VALUE=DATE:20230522
DTEND;VALUE=DATE:20230523
DTSTAMP:20260425T062007
CREATED:20230522T131416Z
LAST-MODIFIED:20230608T094831Z
UID:17479-1684713600-1684799999@szabist-isb.edu.pk
SUMMARY:SZABIST Social Sciences Fiesta & Farewell Ceremony Spring 2023
DESCRIPTION:SZABIST Social Sciences Fiesta & Farewell Ceremony Spring 2023\n\n\n\nThe students of the SZABIST Islamabad campus hosted Social Sciences Fiesta on the 22nd of May 2023 to bid farewell to their seniors. The event was organized by SZABIST Social Sciences Society under the supervision of Dr. Wajid Hussain and Ms. Sana Mukhtar. The event was memorable by cultural performances and Sufi Kalams.\n\n\nDuring the farewell\, interactions between the seniors and the juniors reflected the passing of the torch and the exchange of wisdom and experiences. The seniors shared their guidance and advice with their junior counterparts. Juniors expressed gratitude and respect for the knowledge and mentorship received. The juniors also gave interesting titles to their outgoing seniors\, adding to the fun and excitement of the evening.\n\n\nThe outgoing students also had the opportunity to connect and learn from the faculty and their peers.\n\n\n\n\n \n\n\n 
URL:https://szabist-isb.edu.pk/events-calendar/szabist-social-sciences-fiesta-farewell-ceremony-spring-2023/
CATEGORIES:Life at Campus,Seminar,Spring 2023,SZABIST Events
ATTACH;FMTTYPE=image/jpeg:https://szabist-isb.edu.pk/wp-content/uploads/2023/05/356A6481-1.jpg
END:VEVENT
BEGIN:VEVENT
DTSTART;TZID=Asia/Karachi:20230522T080000
DTEND;TZID=Asia/Karachi:20230522T170000
DTSTAMP:20260425T062007
CREATED:20230522T065001Z
LAST-MODIFIED:20230522T065001Z
UID:17229-1684742400-1684774800@szabist-isb.edu.pk
SUMMARY:A visit to Pakistan Sweet Homes Islamabad
DESCRIPTION:A visit to Pakistan Sweet Homes Islamabad\n\n\n \n\n\nThe Society of Social Responsibility SZABIST Islamabad arranged the visit to Pakistan Sweet Homes Islamabad on Saturday 20th May 2023 for the class of BBA 6-A Social Advocacy and Community Services. The main objective was to educate students through experiential learning about the functions of community organizations and to develop love and care for the underprivileged. \n\n\n\n\n\nThe visit to Pakistan Sweet Homes Islamabad appeared to be a source of learning for students. The staff of Pakistan Sweet Homes showed the students the facilities provided at the center and shared the vision and mission of the organization. They also explained in detail how the management of Pakistan Sweet Homes Islamabad is providing world-class education and lifestyle to underprivileged orphans.\n\n\n\n\n\n			\n				\n			\n			\n				\n			\n			\n				\n			\n		\n\n\n\n\n\n\n 
URL:https://szabist-isb.edu.pk/events-calendar/a-visit-to-pakistan-sweet-homes-islamabad/
CATEGORIES:Social Activities,Spring 2023,SZABIST Events
ATTACH;FMTTYPE=image/jpeg:https://szabist-isb.edu.pk/wp-content/uploads/2023/05/P6-1.jpg
END:VEVENT
BEGIN:VEVENT
DTSTART;TZID=Asia/Karachi:20230522T080000
DTEND;TZID=Asia/Karachi:20230527T170000
DTSTAMP:20260425T062007
CREATED:20230528T071846Z
LAST-MODIFIED:20230608T072349Z
UID:17666-1684742400-1685206800@szabist-isb.edu.pk
SUMMARY:Social Awareness Week 
DESCRIPTION:Social Awareness Week \n\n\n \n\n\nSocial Awareness Week was Organized from 22 to 27th May 2023 by Social Sciences Students. BSSS-3 Social Psychology students. Under the mentorship of Ms. Aliya Abdul Hayee (Assistant Professor of Psychology)\, organized various awareness activities. Including awareness desks\, visits to schools\, community awareness\, social media pages\, seminars\, videos to reach and aware the audience of socio-psychological problems associated with their cause. \n\n\nThe very positive response from the community encouraged a sense of satisfaction and encouragement on the part of all stakeholders. Students loved the whole learning process and community work.\n\n\n 
URL:https://szabist-isb.edu.pk/events-calendar/social-awareness-week/
CATEGORIES:Social Activities,Spring 2023,SZABIST Events
ATTACH;FMTTYPE=image/jpeg:https://szabist-isb.edu.pk/wp-content/uploads/2023/06/IMG-20230606-WA0030-1.jpg
END:VEVENT
END:VCALENDAR