BEGIN:VCALENDAR
VERSION:2.0
PRODID:-//SZABIST University Islamabad - ECPv5.12.2//NONSGML v1.0//EN
CALSCALE:GREGORIAN
METHOD:PUBLISH
X-WR-CALNAME:SZABIST University Islamabad
X-ORIGINAL-URL:https://szabist-isb.edu.pk
X-WR-CALDESC:Events for SZABIST University Islamabad
REFRESH-INTERVAL;VALUE=DURATION:PT1H
X-Robots-Tag:noindex
X-PUBLISHED-TTL:PT1H
BEGIN:VTIMEZONE
TZID:Asia/Karachi
BEGIN:STANDARD
TZOFFSETFROM:+0500
TZOFFSETTO:+0500
TZNAME:PKT
DTSTART:20230101T000000
END:STANDARD
END:VTIMEZONE
BEGIN:VEVENT
DTSTART;VALUE=DATE:20230521
DTEND;VALUE=DATE:20230522
DTSTAMP:20260425T061539
CREATED:20230521T063741Z
LAST-MODIFIED:20230608T064131Z
UID:17660-1684627200-1684713599@szabist-isb.edu.pk
SUMMARY:Guest lecture “How to prepare for PMP Certification"
DESCRIPTION:Guest lecture “How to prepare for PMP Certification”\n\n\nMPM and MSPM programs of SZABIST\, Islamabad aim to train the students for the contemporary competitive project management environment. In pursuance of this\, a Guest Speaker session  organized on 21 May 2023 at 01:30 PM in the auditorium with the title “How to prepare for PMP Certification” for the students of MPM and MSPM. Mr. Muhammad Kashif Siddiqui (CGEIT\, COBIT\, PMP\, CISA\, PMP trainer for more than a decade) graced the occasion the explained the PMP certification\, its requirements\, scope\, and essential aspect for success. Dr. Muhammad Saeed Shahbaz made all the necessary arrangements and moderated the session.\n\n\n\n\n			\n				\n			\n			\n				\n			\n			\n				\n			\n		\n\n\n\n 
URL:https://szabist-isb.edu.pk/events-calendar/guest-lecture-how-to-prepare-for-pmp-certification/
CATEGORIES:Spring 2023,SZABIST Events,Workshop
ATTACH;FMTTYPE=image/jpeg:https://szabist-isb.edu.pk/wp-content/uploads/2023/06/WhatsApp-Image-2023-05-21-at-10.57.48-PM-1.jpeg
END:VEVENT
END:VCALENDAR