BEGIN:VCALENDAR
VERSION:2.0
PRODID:-//SZABIST University Islamabad - ECPv5.12.2//NONSGML v1.0//EN
CALSCALE:GREGORIAN
METHOD:PUBLISH
X-WR-CALNAME:SZABIST University Islamabad
X-ORIGINAL-URL:https://szabist-isb.edu.pk
X-WR-CALDESC:Events for SZABIST University Islamabad
REFRESH-INTERVAL;VALUE=DURATION:PT1H
X-Robots-Tag:noindex
X-PUBLISHED-TTL:PT1H
BEGIN:VTIMEZONE
TZID:Asia/Karachi
BEGIN:STANDARD
TZOFFSETFROM:+0500
TZOFFSETTO:+0500
TZNAME:PKT
DTSTART:20230101T000000
END:STANDARD
END:VTIMEZONE
BEGIN:VEVENT
DTSTART;VALUE=DATE:20230502
DTEND;VALUE=DATE:20230503
DTSTAMP:20260425T061539
CREATED:20230502T040240Z
LAST-MODIFIED:20230508T060750Z
UID:17004-1682985600-1683071999@szabist-isb.edu.pk
SUMMARY:Workshop on “Workplace Ethics and Communication”
DESCRIPTION:Workshop on “Workplace Ethics and Communication”\n\n\n \n\n\nEthical communication in the workplace has a wider impact on stakeholders. It enhances human worth and dignity of professional for self and others. Having the need of building such ethical behavior among future business professionals\, a workshop on “Workplace Ethics and Communication” was held on Tuesday 2nd May 2023 at SZABIST Islamabad Campus for the graduating students of the Department of business administration Spring 2023.\n\n\n \n\n\nMr. Ali Sheikh communications coach\, communications trainer\, and consultant with a decade of experience in experiential and digital marketing in the telecom and development sector at the national and internal level guided the graduating students in controlling and managing their behavior as future business professionals. He further trained them for impactful ethical communication skills required both internally and externally at different levels of jobs.\n\n\n \n\n\nThe session was joined by the production of the Executive Development Center (EDC) and the Department of Management Sciences and was moderated by Dr. Iffat Rasool Associate Professor SZABIST Islamabad. \n\n 
URL:https://szabist-isb.edu.pk/events-calendar/workshop-on-workplace-ethics-and-communication/
CATEGORIES:Spring 2023,SZABIST Events,Workshop
ATTACH;FMTTYPE=image/jpeg:https://szabist-isb.edu.pk/wp-content/uploads/2023/05/2-Beh-Ethics-E-1.jpg
END:VEVENT
BEGIN:VEVENT
DTSTART;VALUE=DATE:20230502
DTEND;VALUE=DATE:20230503
DTSTAMP:20260425T061539
CREATED:20230502T050044Z
LAST-MODIFIED:20230504T065150Z
UID:16988-1682985600-1683071999@szabist-isb.edu.pk
SUMMARY:Seminar on “Developing Entrepreneurial Mindset''
DESCRIPTION:Seminar on “Developing Entrepreneurial Mindset” \nThe seminar on “Developing Entrepreneurial Mindset” took place on Tuesday 2nd May 2023 at SZABIST Islamabad Campus. The main objective of the activity was to cultivate entrepreneurial skills among the graduating students of the Department of Business Administration and help them to develop the necessary skills to start and operate their business ventures in the future. \nMr. Shabbar Khawaja an Entrepreneur\, trainer\, and business Analyst shared his entrepreneurial experience and guided the students on how to undertake uncertainty while taking up new ventures. \nDr. Shumaila Zeb\, Associate Professor and Program Manager Business Administration Department BBA Level thanked the guest speaker and presented him the shield. The  Executive Development Center (EDC) and the Department of Management Sciences jointly organized this session and  Dr. Iffat Rasool Associate Professor SZABIST Islamabad was the moderator of it.
URL:https://szabist-isb.edu.pk/events-calendar/seminar-on-developing-entrepreneurial-mindset/
CATEGORIES:Seminar,SZABIST Events
ATTACH;FMTTYPE=image/jpeg:https://szabist-isb.edu.pk/wp-content/uploads/2023/05/2-15-1.jpg
END:VEVENT
BEGIN:VEVENT
DTSTART;VALUE=DATE:20230502
DTEND;VALUE=DATE:20230503
DTSTAMP:20260425T061539
CREATED:20230502T073052Z
LAST-MODIFIED:20230504T073946Z
UID:16998-1682985600-1683071999@szabist-isb.edu.pk
SUMMARY:Seminar on “Professional Behavior & Ethics”
DESCRIPTION:Seminar on “Professional Behavior & Ethics”\n\n\n \n\n\nSZABIST Islamabad has always a great interest in inculcating professional and ethical behavior among the students as they perform their duties as business professionals and leaders in society. Further\, providing such type of training on professional ethics also direct the students on how as professionals they should act towards their stakeholders in the businesses and society.\n\n\nKeeping in view the need for time and the importance of business ethics a seminar on “Professional Behavior & Ethics” was conducted on Tuesday 2nd May 2023 at SZABIST Islamabad Campus for the graduating students of BBA 8 B and BSAF 8 Spring 2023 \n\n\nMs Zainab Satti\, country Manager of Darvis Pakistan addressed the importance of professional ethical behavior and involved the students in activities that help improve their behavior as potential future professionals.\n\n\nThe Executive Development Center (EDC) and the Department of Management Sciences jointly organized the seminar and  Dr. Iffat Rasool Associate Professor SZABIST Islamabad moderated it. \n\n\n\n			\n				\n			\n			\n				\n			\n			\n				\n			\n		\n\n\n\n \n\n\n\n\n\n 
URL:https://szabist-isb.edu.pk/events-calendar/seminar-on-professional-behavior-ethics/
CATEGORIES:Seminar,Spring 2023,SZABIST Events
ATTACH;FMTTYPE=image/jpeg:https://szabist-isb.edu.pk/wp-content/uploads/2023/05/2-Behav-Ethics-M-1.jpg
END:VEVENT
END:VCALENDAR