BEGIN:VCALENDAR
VERSION:2.0
PRODID:-//SZABIST University Islamabad - ECPv5.12.2//NONSGML v1.0//EN
CALSCALE:GREGORIAN
METHOD:PUBLISH
X-WR-CALNAME:SZABIST University Islamabad
X-ORIGINAL-URL:https://szabist-isb.edu.pk
X-WR-CALDESC:Events for SZABIST University Islamabad
REFRESH-INTERVAL;VALUE=DURATION:PT1H
X-Robots-Tag:noindex
X-PUBLISHED-TTL:PT1H
BEGIN:VTIMEZONE
TZID:Asia/Karachi
BEGIN:STANDARD
TZOFFSETFROM:+0500
TZOFFSETTO:+0500
TZNAME:PKT
DTSTART:20230101T000000
END:STANDARD
END:VTIMEZONE
BEGIN:VEVENT
DTSTART;VALUE=DATE:20230430
DTEND;VALUE=DATE:20230501
DTSTAMP:20260425T075206
CREATED:20230429T211810Z
LAST-MODIFIED:20230516T080742Z
UID:16953-1682812800-1682899199@szabist-isb.edu.pk
SUMMARY:A Debate Competition
DESCRIPTION:A Debate Competition\n\n\n\nSZABIST Islamabad strongly believes that a healthy mind consists of a healthy body. That’s why Szabist Islamabad always tries to make its students into healthy activities which promote innovative thinking and help students to build links.\n\n\nOn 30th of April 2023\, Szabist Islamabad held a prestigious debate competition which was performed under the supervision of Ma’am Uzma Shahryar. The students of BSAF-2A and BBA 1 A had to respectively compete against each other countering the Social Issues of Pakistan. Respective judges also joined us in this event and the students were ranked with positions accordingly and awarded certificates.\n\n\nThe students gained knowledge on various topics and the event went very well and knowledgeable.
URL:https://szabist-isb.edu.pk/events-calendar/a-debate-competition/
CATEGORIES:Semester Activities,Spring 2023,SZABIST Events
ATTACH;FMTTYPE=image/jpeg:https://szabist-isb.edu.pk/wp-content/uploads/2023/05/356A0823-1.jpg
END:VEVENT
END:VCALENDAR