BEGIN:VCALENDAR
VERSION:2.0
PRODID:-//SZABIST University Islamabad - ECPv5.12.2//NONSGML v1.0//EN
CALSCALE:GREGORIAN
METHOD:PUBLISH
X-WR-CALNAME:SZABIST University Islamabad
X-ORIGINAL-URL:https://szabist-isb.edu.pk
X-WR-CALDESC:Events for SZABIST University Islamabad
REFRESH-INTERVAL;VALUE=DURATION:PT1H
X-Robots-Tag:noindex
X-PUBLISHED-TTL:PT1H
BEGIN:VTIMEZONE
TZID:Asia/Karachi
BEGIN:STANDARD
TZOFFSETFROM:+0500
TZOFFSETTO:+0500
TZNAME:PKT
DTSTART:20230101T000000
END:STANDARD
END:VTIMEZONE
BEGIN:VEVENT
DTSTART;VALUE=DATE:20230413
DTEND;VALUE=DATE:20230414
DTSTAMP:20260425T075200
CREATED:20230413T132257Z
LAST-MODIFIED:20230608T132611Z
UID:17762-1681344000-1681430399@szabist-isb.edu.pk
SUMMARY:Social Advocacy and Community Services visited the "Safe City Project Islamabad
DESCRIPTION:On April 13th\, 2023\, a group of students from the BBA 6B program in Social Advocacy and Community Services visited the “Safe City Project Islamabad.” During the visit\, CPO Shohaib Khurram gave a briefing to the students about the project’s objectives and responsibilities. Ms. Sana Mukhtar was the main organizer. \n 
URL:https://szabist-isb.edu.pk/events-calendar/social-advocacy-and-community-services-visited-the-safe-city-project-islamabad/
CATEGORIES:Social Activities,Spring 2023,SZABIST Events
ATTACH;FMTTYPE=image/jpeg:https://szabist-isb.edu.pk/wp-content/uploads/2023/06/IMG-20230414-WA0026-1.jpg
END:VEVENT
END:VCALENDAR