BEGIN:VCALENDAR
VERSION:2.0
PRODID:-//SZABIST University Islamabad - ECPv5.12.2//NONSGML v1.0//EN
CALSCALE:GREGORIAN
METHOD:PUBLISH
X-WR-CALNAME:SZABIST University Islamabad
X-ORIGINAL-URL:https://szabist-isb.edu.pk
X-WR-CALDESC:Events for SZABIST University Islamabad
REFRESH-INTERVAL;VALUE=DURATION:PT1H
X-Robots-Tag:noindex
X-PUBLISHED-TTL:PT1H
BEGIN:VTIMEZONE
TZID:Asia/Karachi
BEGIN:STANDARD
TZOFFSETFROM:+0500
TZOFFSETTO:+0500
TZNAME:PKT
DTSTART:20230101T000000
END:STANDARD
END:VTIMEZONE
BEGIN:VEVENT
DTSTART;VALUE=DATE:20230408
DTEND;VALUE=DATE:20230409
DTSTAMP:20260425T075206
CREATED:20230408T104326Z
LAST-MODIFIED:20230417T105326Z
UID:16852-1680912000-1680998399@szabist-isb.edu.pk
SUMMARY:Webinar: "Enlightenment and Economic Change"
DESCRIPTION:Webinar: “Enlightenment and Economic Change” \nSZABIST Social Sciences Society conducted an online session on “Enlightenment and Economic Change” for the students of the social sciences department. This session was held on 8th April 2023 at SZABIST Islamabad. \nThe guest speaker\, Syed Muhammad Usman Masood\, spoke on the mechanics of economic growth and technological progress. He focused\, especially\, on how the Enlightenment affected the economy through our attitude toward technology and the role it should play in human affairs\, and the contribution by institutions in economic transition. \nSyed Muhammad Usman Masood is an economist and a writer. He is a faculty member of the Department of social sciences at SZABIST\, Islamabad\, and is pursuing his Ph.D. at Ibn Haldun University\, Istanbul\, Turkey.
URL:https://szabist-isb.edu.pk/events-calendar/webinar-enlightenment-and-economic-change/
CATEGORIES:Spring 2023,SZABIST Events,Webinar
ATTACH;FMTTYPE=image/jpeg:https://szabist-isb.edu.pk/wp-content/uploads/2023/04/336370662_1573104673176463_8109742578630449188_n.jpg
END:VEVENT
END:VCALENDAR