BEGIN:VCALENDAR
VERSION:2.0
PRODID:-//SZABIST University Islamabad - ECPv5.12.2//NONSGML v1.0//EN
CALSCALE:GREGORIAN
METHOD:PUBLISH
X-WR-CALNAME:SZABIST University Islamabad
X-ORIGINAL-URL:https://szabist-isb.edu.pk
X-WR-CALDESC:Events for SZABIST University Islamabad
REFRESH-INTERVAL;VALUE=DURATION:PT1H
X-Robots-Tag:noindex
X-PUBLISHED-TTL:PT1H
BEGIN:VTIMEZONE
TZID:Asia/Karachi
BEGIN:STANDARD
TZOFFSETFROM:+0500
TZOFFSETTO:+0500
TZNAME:PKT
DTSTART:20230101T000000
END:STANDARD
END:VTIMEZONE
BEGIN:VEVENT
DTSTART;VALUE=DATE:20230407
DTEND;VALUE=DATE:20230408
DTSTAMP:20260425T075205
CREATED:20230406T200841Z
LAST-MODIFIED:20230420T085239Z
UID:16881-1680825600-1680911999@szabist-isb.edu.pk
SUMMARY:World Health Day Celebration
DESCRIPTION:World Health Day Celebration 🌎\n\n\n\nWe are from Szabist University Islamabad campus BBA 1A\n\n\nstudents\, we whole class participated in today’s event which\n\n\nwas held under the supervision of Uzma Shehryar.\n\n\nWorld Health Organization celebrates global health day every\n\n\nyear on 7th April worldwide to create awareness on the\n\n\nbenefits of being healthy. On this day numerous programs\n\n\nand arrangements are curated by the World Health\n\n\nOrganization. World Health Day was the first time celebrated\n\n\nworldwide in the year 1950. We enjoyed ourselves a lot and shared our\n\n\nwork with our university students as well as spread\n\n\nawareness of the World Health Organisation ( WHO) through\n\n\ndisplaying the work which we made in our class and we\n\n\nexplained to students what is World Health Day and it’s\n\n\nimportance and then we took photographs\, we had fun\n\n\nactivity in our University.\n\n\n \n\n\n• W.H.O’s mission is to promote health\, keep the world safe and\n\n\nserve the vulnerable\, with measurable impact on people at the\n\n\ncountry level.\n\n\n• It works to improve access to essential medicines and health\n\n\nproducts.\n\n\n• train the health workforce and advise on labor policies.\n\n\n• It focuses on women\, and children’s health all over the world.
URL:https://szabist-isb.edu.pk/events-calendar/world-health-day-celebration/
CATEGORIES:Social Activities,Spring 2023,SZABIST Events
ATTACH;FMTTYPE=image/jpeg:https://szabist-isb.edu.pk/wp-content/uploads/2023/04/image-2-BBA-Activity-World-health-day.jpg
END:VEVENT
END:VCALENDAR