BEGIN:VCALENDAR
VERSION:2.0
PRODID:-//SZABIST University Islamabad - ECPv5.12.2//NONSGML v1.0//EN
CALSCALE:GREGORIAN
METHOD:PUBLISH
X-WR-CALNAME:SZABIST University Islamabad
X-ORIGINAL-URL:https://szabist-isb.edu.pk
X-WR-CALDESC:Events for SZABIST University Islamabad
REFRESH-INTERVAL;VALUE=DURATION:PT1H
X-Robots-Tag:noindex
X-PUBLISHED-TTL:PT1H
BEGIN:VTIMEZONE
TZID:Asia/Karachi
BEGIN:STANDARD
TZOFFSETFROM:+0500
TZOFFSETTO:+0500
TZNAME:PKT
DTSTART:20230101T000000
END:STANDARD
END:VTIMEZONE
BEGIN:VEVENT
DTSTART;VALUE=DATE:20230201
DTEND;VALUE=DATE:20230211
DTSTAMP:20260425T163825
CREATED:20230210T090938Z
LAST-MODIFIED:20230313T092232Z
UID:16534-1675209600-1676073599@szabist-isb.edu.pk
SUMMARY:Internees in Islamabad Traffic Police
DESCRIPTION:SZABIST Students best utilized their semester break by joining as internees in Islamabad Traffic Police.\n\n\nThey are working closely with the ITP educational team to work for the betterment of society by running road safety campaigns\, giving lectures\, and FM radio programs.
URL:https://szabist-isb.edu.pk/events-calendar/internees-in-islamabad-traffic-police/
CATEGORIES:Fall 2022,Semester Activities,SZABIST Events
ATTACH;FMTTYPE=image/jpeg:https://szabist-isb.edu.pk/wp-content/uploads/2023/03/329720076_573175264463103_1032236071269774505_n.jpg
END:VEVENT
END:VCALENDAR