BEGIN:VCALENDAR
VERSION:2.0
PRODID:-//SZABIST University Islamabad - ECPv5.12.2//NONSGML v1.0//EN
CALSCALE:GREGORIAN
METHOD:PUBLISH
X-WR-CALNAME:SZABIST University Islamabad
X-ORIGINAL-URL:https://szabist-isb.edu.pk
X-WR-CALDESC:Events for SZABIST University Islamabad
REFRESH-INTERVAL;VALUE=DURATION:PT1H
X-Robots-Tag:noindex
X-PUBLISHED-TTL:PT1H
BEGIN:VTIMEZONE
TZID:Asia/Karachi
BEGIN:STANDARD
TZOFFSETFROM:+0500
TZOFFSETTO:+0500
TZNAME:PKT
DTSTART:20220101T000000
END:STANDARD
END:VTIMEZONE
BEGIN:VEVENT
DTSTART;VALUE=DATE:20221223
DTEND;VALUE=DATE:20221224
DTSTAMP:20260425T181709
CREATED:20221221T100033Z
LAST-MODIFIED:20221229T115026Z
UID:15635-1671753600-1671839999@szabist-isb.edu.pk
SUMMARY:Workshop on C.V. Writing Skills
DESCRIPTION:C.V. is a short document that gives a chance to individuals to show a prospective employer the best of what one has. It sells one’s skills\, and experience\, and shows the employer the best of the candidate. C.V. lets the employer notice the candidate\, his education\, achievements\, skills\, and abilities.\n\n\nTaking C.V as the main component for graduating students for finding a potential job\, the Department of Management Sciences SZABIST Islamabad organized the Seminar under the Professional development week series on “C.V Writing” on Friday 23rd December 2022 for the graduating students of BBA\, BSAF\, and MBA. Dr. Iffat Rasool Associate Professor SZABIST Islamabad involved the graduating students in C.V. writing practice. Dr. Iffat Rasool has vast experience in training communication skills on a national and international level.
URL:https://szabist-isb.edu.pk/events-calendar/workshop-on-c-v-writing-skills/
CATEGORIES:Fall 2022,SZABIST Events,Workshop
ATTACH;FMTTYPE=image/jpeg:https://szabist-isb.edu.pk/wp-content/uploads/2022/12/2.-CV-1.jpg
END:VEVENT
END:VCALENDAR