BEGIN:VCALENDAR
VERSION:2.0
PRODID:-//SZABIST University Islamabad - ECPv5.12.2//NONSGML v1.0//EN
CALSCALE:GREGORIAN
METHOD:PUBLISH
X-WR-CALNAME:SZABIST University Islamabad
X-ORIGINAL-URL:https://szabist-isb.edu.pk
X-WR-CALDESC:Events for SZABIST University Islamabad
REFRESH-INTERVAL;VALUE=DURATION:PT1H
X-Robots-Tag:noindex
X-PUBLISHED-TTL:PT1H
BEGIN:VTIMEZONE
TZID:Asia/Karachi
BEGIN:STANDARD
TZOFFSETFROM:+0500
TZOFFSETTO:+0500
TZNAME:PKT
DTSTART:20220101T000000
END:STANDARD
END:VTIMEZONE
BEGIN:VEVENT
DTSTART;VALUE=DATE:20221221
DTEND;VALUE=DATE:20221222
DTSTAMP:20260425T163825
CREATED:20221230T084607Z
LAST-MODIFIED:20221230T084607Z
UID:15807-1671580800-1671667199@szabist-isb.edu.pk
SUMMARY:BBA Experiential Learning Activity (Visit to Fauji Foods Limited)
DESCRIPTION:BBA Experiential Learning Activity (Visit to Fauji Foods Limited)\n\n\n\nDepartment of Management Sciences organized an Industrial Tour of BBA 7 & 8 (Marketing / Supply Chain Management) to Fauji Foods Limited (Plantsite)\, Bahalwal on 21st Dec\, 2022. Mr. Adeel (HR Lead) and the Management of Fauji Foods warmly welcomed students. They addressed on introduction/history of Fauji Group along with Logistics & Distribution strategies adopted by Fauji Foods Ltd. Later\, the students got an overview of the entire production process and were briefed on HSE\, Quality Management\, Warehouse Management and latest IT systems implemented by Fauji Foods Ltd. Visit concluded with Q&A session followed by a lunch. The visit intended to emphasize the importance of knowledge sharing between Academia & Industry.  Under the supervision of course instructor Mr. Omer Ijaz this visit took place.
URL:https://szabist-isb.edu.pk/events-calendar/bba-experiential-learning-activity-visit-to-fauji-foods-limited/
CATEGORIES:Fall 2022,SZABIST Events,Visits
ATTACH;FMTTYPE=image/jpeg:https://szabist-isb.edu.pk/wp-content/uploads/2022/12/323214521_1241962806392547_1756730018457608863_n.jpg
END:VEVENT
BEGIN:VEVENT
DTSTART;TZID=Asia/Karachi:20221221T080000
DTEND;TZID=Asia/Karachi:20221221T170000
DTSTAMP:20260425T163825
CREATED:20221221T082711Z
LAST-MODIFIED:20230609T083757Z
UID:17801-1671609600-1671642000@szabist-isb.edu.pk
SUMMARY:Seminar on Green Finance
DESCRIPTION:Seminar on Green Finance \n  \nThe seminar on Green finance helps the students to understand the development in this area and to identify topics of research for their thesis in the area of green finance. Dr. Hassan Raza organized the seminar. \nSzabist Special Interest Group (SIG-Finance) has invited professor Safdar Ali Butt for the seminar on Green Finance. Professor Safdar Ali Butt is a financial expert\, a senior corporate official/director\, a trainer\, an academician\, a writer\, and an entrepreneur. He delivers a lecture on green finance- one of the most prominent areas in finance now a day. He has covered the following outline in his lecture: \n\nPrincipal areas of Sustainable Development Goals (SDG)\nGreen finance\nObjectives in private sector in private sector\nIssues in green finance\nGreen Banks and Governmental involvement
URL:https://szabist-isb.edu.pk/events-calendar/seminar-on-green-finance/
CATEGORIES:Seminar,Spring 2023,SZABIST Events
ATTACH;FMTTYPE=image/jpeg:https://szabist-isb.edu.pk/wp-content/uploads/2023/06/GF-1-1.jpg
END:VEVENT
END:VCALENDAR