BEGIN:VCALENDAR
VERSION:2.0
PRODID:-//SZABIST University Islamabad - ECPv5.12.2//NONSGML v1.0//EN
CALSCALE:GREGORIAN
METHOD:PUBLISH
X-WR-CALNAME:SZABIST University Islamabad
X-ORIGINAL-URL:https://szabist-isb.edu.pk
X-WR-CALDESC:Events for SZABIST University Islamabad
REFRESH-INTERVAL;VALUE=DURATION:PT1H
X-Robots-Tag:noindex
X-PUBLISHED-TTL:PT1H
BEGIN:VTIMEZONE
TZID:Asia/Karachi
BEGIN:STANDARD
TZOFFSETFROM:+0500
TZOFFSETTO:+0500
TZNAME:PKT
DTSTART:20220101T000000
END:STANDARD
END:VTIMEZONE
BEGIN:VEVENT
DTSTART;VALUE=DATE:20221220
DTEND;VALUE=DATE:20221221
DTSTAMP:20260425T163824
CREATED:20221219T110826Z
LAST-MODIFIED:20221229T114426Z
UID:15535-1671494400-1671580799@szabist-isb.edu.pk
SUMMARY:"Al Rehman Therapy - Scientific basis and experience from Pakistan"
DESCRIPTION:Wellness society has organized a session on “Al Rehman Therapy – Scientific basis and experience from Pakistan” on 20th December 2022. The organizer team includes Ms. Sana Mukhtar and Dr. Rashida Qureshi-faculty of Dept of Social Sciences.\n\n\nGuest speakers were Dr. Mahrukh Zahoor\, Cardiac Surgeon at CDA Hospital\, and Dr. Syed Fawad Raza Bukhari\, Head of Core Engineering ICEE\, University of Lahore.\nWellness society has organized a session on “Al Rehman Therapy – Scientific basis and experience from Pakistan” on 20th December 2022. The organizer team includes Ms. Sana Mukhtar and Dr. Rashida Qureshi-faculty of the Dept of Social Sciences.
URL:https://szabist-isb.edu.pk/events-calendar/al-rehman-therapy-scientific-basis-and-experience-from-pakistan/
CATEGORIES:Fall 2022,Sessions,SZABIST Events
ATTACH;FMTTYPE=image/jpeg:https://szabist-isb.edu.pk/wp-content/uploads/2022/12/IMG-20221220-WA0074.jpg
END:VEVENT
BEGIN:VEVENT
DTSTART;VALUE=DATE:20221220
DTEND;VALUE=DATE:20221221
DTSTAMP:20260425T163824
CREATED:20221221T082036Z
LAST-MODIFIED:20221229T114610Z
UID:15528-1671494400-1671580799@szabist-isb.edu.pk
SUMMARY:"Psychological Problems\, Their Solution in the light of Surah Asar ''
DESCRIPTION:“Psychological Problems\, Their Solution in the light of Surah Asar ” \nA seminar on “Psychological Problems\, Their Solution in the light of Surah Asar ” took place in SZABIST Islamabad.  Ma’am Maria Rafique Qureshi was the organizer of it for the students of Clinical Psychology and BS (A&F). A guest speaker\,  Dr. Javed Iqbal\,(HOD Riphah International University Malakand Campus) gave thought-provoking solutions for the psychological problems.
URL:https://szabist-isb.edu.pk/events-calendar/psychological-problems-their-solution-in-the-light-of-surah-asar/
CATEGORIES:Fall 2022,Seminar,SZABIST Events
ATTACH;FMTTYPE=image/jpeg:https://szabist-isb.edu.pk/wp-content/uploads/2022/12/320983819_546443707106365_7273512124461100144_n.jpg
END:VEVENT
END:VCALENDAR