BEGIN:VCALENDAR
VERSION:2.0
PRODID:-//SZABIST University Islamabad - ECPv5.12.2//NONSGML v1.0//EN
CALSCALE:GREGORIAN
METHOD:PUBLISH
X-WR-CALNAME:SZABIST University Islamabad
X-ORIGINAL-URL:https://szabist-isb.edu.pk
X-WR-CALDESC:Events for SZABIST University Islamabad
REFRESH-INTERVAL;VALUE=DURATION:PT1H
X-Robots-Tag:noindex
X-PUBLISHED-TTL:PT1H
BEGIN:VTIMEZONE
TZID:Asia/Karachi
BEGIN:STANDARD
TZOFFSETFROM:+0500
TZOFFSETTO:+0500
TZNAME:PKT
DTSTART:20220101T000000
END:STANDARD
END:VTIMEZONE
BEGIN:VEVENT
DTSTART;VALUE=DATE:20221219
DTEND;VALUE=DATE:20221220
DTSTAMP:20260425T181711
CREATED:20221219T082510Z
LAST-MODIFIED:20230727T083023Z
UID:18538-1671408000-1671494399@szabist-isb.edu.pk
SUMMARY:"Contemporary challenges in Management and Leadership Skills"
DESCRIPTION:A seminar on “Contemporary challenges in Management and Leadership Skills” was held on December 19th\, 2022. Dr. Samina Karim (Manager of organization development-Mobilink) and Mr.Muhammad Haroon Khan (Chief People Officer-Mobilink) were the honorable guest speakers. \n  \n\n			\n				\n			\n			\n				\n			\n			\n				\n			\n			\n				\n			\n		\n\n 
URL:https://szabist-isb.edu.pk/events-calendar/contemporary-challenges-in-management-and-leadership-skills/
CATEGORIES:Seminar,Spring 2023,SZABIST Events
ATTACH;FMTTYPE=image/jpeg:https://szabist-isb.edu.pk/wp-content/uploads/2023/07/356A5363-1.jpg
END:VEVENT
END:VCALENDAR