BEGIN:VCALENDAR
VERSION:2.0
PRODID:-//SZABIST University Islamabad - ECPv5.12.2//NONSGML v1.0//EN
CALSCALE:GREGORIAN
METHOD:PUBLISH
X-WR-CALNAME:SZABIST University Islamabad
X-ORIGINAL-URL:https://szabist-isb.edu.pk
X-WR-CALDESC:Events for SZABIST University Islamabad
REFRESH-INTERVAL;VALUE=DURATION:PT1H
X-Robots-Tag:noindex
X-PUBLISHED-TTL:PT1H
BEGIN:VTIMEZONE
TZID:Asia/Karachi
BEGIN:STANDARD
TZOFFSETFROM:+0500
TZOFFSETTO:+0500
TZNAME:PKT
DTSTART:20220101T000000
END:STANDARD
END:VTIMEZONE
BEGIN:VEVENT
DTSTART;VALUE=DATE:20221216
DTEND;VALUE=DATE:20221217
DTSTAMP:20260425T181710
CREATED:20221212T123307Z
LAST-MODIFIED:20221228T111938Z
UID:15502-1671148800-1671235199@szabist-isb.edu.pk
SUMMARY:Field visit to Pakistan Stock Exchange (PSX)
DESCRIPTION:SZABIST Islamabad takes the students on pertinent field trips to get first-hand experience related to the concepts of Financial Management.  Ms. Nayyab Javed arranged a tour of ISE towers of the Pakistan Stock Exchange for a field trip for students of BSAF-5 & BBA-5.\n\n\nThis provided the students with a basic understanding of how a financial market works in Pakistan. Students got hands-on experience with the integrated systems and linkages of organizations with PSX throughout the country. Moreover\, the students also identified the basic investment areas which can foster economic growth in a country. Also to acquire a clearer understanding of Pakistani financial markets\, institutions\, and their regulatory framework.
URL:https://szabist-isb.edu.pk/events-calendar/field-visit-to-pakistan-stock-exchange-psx/
CATEGORIES:SZABIST Events,Visits
ATTACH;FMTTYPE=image/jpeg:https://szabist-isb.edu.pk/wp-content/uploads/2022/12/320524513_1318174262371502_6726709756248687827_n.jpg
END:VEVENT
END:VCALENDAR