BEGIN:VCALENDAR
VERSION:2.0
PRODID:-//SZABIST University Islamabad - ECPv5.12.2//NONSGML v1.0//EN
CALSCALE:GREGORIAN
METHOD:PUBLISH
X-WR-CALNAME:SZABIST University Islamabad
X-ORIGINAL-URL:https://szabist-isb.edu.pk
X-WR-CALDESC:Events for SZABIST University Islamabad
REFRESH-INTERVAL;VALUE=DURATION:PT1H
X-Robots-Tag:noindex
X-PUBLISHED-TTL:PT1H
BEGIN:VTIMEZONE
TZID:Asia/Karachi
BEGIN:STANDARD
TZOFFSETFROM:+0500
TZOFFSETTO:+0500
TZNAME:PKT
DTSTART:20220101T000000
END:STANDARD
END:VTIMEZONE
BEGIN:VEVENT
DTSTART;VALUE=DATE:20221215
DTEND;VALUE=DATE:20221216
DTSTAMP:20260425T181906
CREATED:20221214T120803Z
LAST-MODIFIED:20221228T112001Z
UID:15497-1671062400-1671148799@szabist-isb.edu.pk
SUMMARY:Islamic Banking in Pakistan
DESCRIPTION:Ms. Nayyab Javed organized a guest speaker session on the topic “Islamic Banking in Pakistan” for the class of BSAF-4 .  Dr. Sanaullah Ansari\, was the speaker\, who is a specialist in the field of Islamic Banking and Finance.\n\n\nIn conversation with the audience he gave an in-depth explanation of Islamic banking as well as an overview of Islamic finance. The session’s main topics included but weren’t limited to: the distinction between conventional and Islamic banking; various nations and their strategies for introducing Islamic banking; and an in-depth discussion of the subject with particular reference to Pakistan. Examples that followed these discussion topics included how western nations primarily rely on loans and credit terms and the drawbacks of this\, as well as how these nations are embracing Islamic banking and its advantages. Other examples included the opening of divisions for Islamic banking and contract renewal at the IMF and the World Bank. The session kept the audience hooked till the end.
URL:https://szabist-isb.edu.pk/events-calendar/islamic-banking-in-pakistan/
CATEGORIES:Fall 2022,Sessions,SZABIST Events
ATTACH;FMTTYPE=image/jpeg:https://szabist-isb.edu.pk/wp-content/uploads/2022/12/320406168_839609280463112_1995838935694225067_n.jpg
END:VEVENT
BEGIN:VEVENT
DTSTART;VALUE=DATE:20221215
DTEND;VALUE=DATE:20221216
DTSTAMP:20260425T181906
CREATED:20221220T120006Z
LAST-MODIFIED:20221220T120006Z
UID:15491-1671062400-1671148799@szabist-isb.edu.pk
SUMMARY:Educational Trip - Value Chain Process of Coronet Foods Pvt Limited
DESCRIPTION:BS(AF) Experiential Learning Activity\n\nOrganizer:  Dr. Zoya Wajid Satti\n\n\n\nThe main purpose of this educational trip was to provide a platform for our business students to gain a deep understanding of the value chain of the industry outside the classroom. The Manager of Coronet Foods explained to the students about the value chain process. They described how they are applying theoretical knowledge to the practical field. They explained the whole value chain process; and how it is helping them in their business activities. This activity enabled our students to gain more knowledge and also get a clear picture of the above. It imparts practical knowledge to the students which they can incorporate into their professional and personal grooming for better communication and relationship-building purposes.
URL:https://szabist-isb.edu.pk/events-calendar/educational-trip-value-chain-process-of-coronet-foods-pvt-limited/
CATEGORIES:Fall 2022,SZABIST Events,Visits
ATTACH;FMTTYPE=image/jpeg:https://szabist-isb.edu.pk/wp-content/uploads/2022/12/318563056_3379431149043746_2383399317366785687_n.jpg
END:VEVENT
BEGIN:VEVENT
DTSTART;VALUE=DATE:20221215
DTEND;VALUE=DATE:20221216
DTSTAMP:20260425T181906
CREATED:20230102T070827Z
LAST-MODIFIED:20230104T081331Z
UID:15827-1671062400-1671148799@szabist-isb.edu.pk
SUMMARY:ZAB – EXTRAVAGANZA (Ignite) “Fall 2022”
DESCRIPTION:ZAB – EXTRAVAGANZA (Ignite) “Fall 2022”\n\n\n\nStudents of BBA organized ZAB EXTRAVAGANZA (Ignite) on 15th December 2022 under the ZAB Entrepreneurship Week\, Fall 2022 at SZABIST Islamabad. ZAB EXTRAVAGANZA is one of SZABIST Islamabad’s signature events to support students who plan to go solo in the marketplace. The event gathered around exhibitors from the undergraduate programs\, providing a platform for students to display their marketing plans. Also\, to learn about business start-up opportunities and support services and get the latest market intelligence.\n\n\n\nCSR invited the students along with their teacher from Sweet Homes and had them participate in the Extravaganza and indulge with the students to enjoy a treat of festivity that was going around. The students from sweet homes entertained with lunch and ZAB Extravaganza souvenirs.\n\n\n\nThe participating young entrepreneurs and the supervisors of the students Dr. Zoya Wajid and Mr. Syed Shahwar Hussain of the ZAB Extravaganza received outstanding appreciation from the Chief Guest\, Mr. Khusro Pervaiz Khan (Head of Campus) along Dr. Muhammad Asif Khan (Associate Dean/ Head of Department) and Dr. Shumaila Zeb (Program Manager).
URL:https://szabist-isb.edu.pk/events-calendar/zab-extravaganza-ignite-fall-2022/
CATEGORIES:Fall 2022,Life at Campus,SZABIST Events
ATTACH;FMTTYPE=image/jpeg:https://szabist-isb.edu.pk/wp-content/uploads/2023/01/322956636_1199105557376027_1128948295649769073_n.jpg
END:VEVENT
END:VCALENDAR